BEGIN:VCALENDAR
VERSION:2.0
PRODID:-//spbstu.ru//ical//RU
NAME:Расписание группы 3331504/20301
X-WR-CALNAME:Расписание группы 3331504/20301
TIMEZONE-ID:Europe/Moscow
X-WR-TIMEZONE:Europe/Moscow
BEGIN:VEVENT
UID:im7r@192.168.245.71:3006
SEQUENCE:0
DTSTAMP:20260423T043606Z
DTSTART:20251209T090000Z
DTEND:20251209T104000Z
SUMMARY:Проектирование и конструирование мехатронных модулей автоматизиров
 анного технологического оборудования
LOCATION:1 к. 425
END:VEVENT
BEGIN:VEVENT
UID:uyks@192.168.245.71:3006
SEQUENCE:0
DTSTAMP:20260423T043606Z
DTSTART:20251209T110000Z
DTEND:20251209T124000Z
SUMMARY:Электронные устройства автоматизированных технологических машин  и
  оборудования
LOCATION:1 к. 41
END:VEVENT
BEGIN:VEVENT
UID:xo7k@192.168.245.71:3006
SEQUENCE:0
DTSTAMP:20260423T043606Z
DTSTART:20251209T130000Z
DTEND:20251209T144000Z
SUMMARY:НИОКР
LOCATION:НИК В2.15
END:VEVENT
BEGIN:VEVENT
UID:l191@192.168.245.71:3006
SEQUENCE:0
DTSTAMP:20260423T043606Z
DTSTART:20251210T070000Z
DTEND:20251210T084000Z
SUMMARY:Электрические\, гидравлические и пневматические приводы мехатронны
 х и робототехнических устройств
LOCATION:ГЗ 215
END:VEVENT
BEGIN:VEVENT
UID:zey2@192.168.245.71:3006
SEQUENCE:0
DTSTAMP:20260423T043606Z
DTSTART:20251210T090000Z
DTEND:20251210T104000Z
SUMMARY:Электрические\, гидравлические и пневматические приводы мехатронны
 х и робототехнических устройств
LOCATION:9 к. 115
END:VEVENT
BEGIN:VEVENT
UID:7rb0@192.168.245.71:3006
SEQUENCE:0
DTSTAMP:20260423T043606Z
DTSTART:20251210T110000Z
DTEND:20251210T124000Z
SUMMARY:Микропроцессорная техника автоматизированного оборудования
LOCATION:1 к. 425
END:VEVENT
BEGIN:VEVENT
UID:3q85@192.168.245.71:3006
SEQUENCE:0
DTSTAMP:20260423T043606Z
DTSTART:20251211T050000Z
DTEND:20251211T064000Z
SUMMARY:Машиностроительная схемотехника
LOCATION:ГЗ 215
END:VEVENT
BEGIN:VEVENT
UID:fr3v@192.168.245.71:3006
SEQUENCE:0
DTSTAMP:20260423T043606Z
DTSTART:20251211T070000Z
DTEND:20251211T084000Z
SUMMARY:Машиностроительная схемотехника
LOCATION:1 к. кафедра Автоматы
END:VEVENT
BEGIN:VEVENT
UID:uz7c@192.168.245.71:3006
SEQUENCE:0
DTSTAMP:20260423T043606Z
DTSTART:20251211T090000Z
DTEND:20251211T104000Z
SUMMARY:Программное обеспечение автоматизированных производственных систем
LOCATION:1 к. 413
END:VEVENT
BEGIN:VEVENT
UID:u2u5@192.168.245.71:3006
SEQUENCE:0
DTSTAMP:20260423T043606Z
DTSTART:20251211T110000Z
DTEND:20251211T124000Z
SUMMARY:Мехатронные модули современного технологического оборудования  (на
  английском языке)
LOCATION:1 к. кафедра Автоматы
END:VEVENT
BEGIN:VEVENT
UID:iod1@192.168.245.71:3006
SEQUENCE:0
DTSTAMP:20260423T043606Z
DTSTART:20251212T070000Z
DTEND:20251212T084000Z
SUMMARY:Электронные устройства автоматизированных технологических машин  и
  оборудования
LOCATION:ГЗ 271
END:VEVENT
BEGIN:VEVENT
UID:yqsq@192.168.245.71:3006
SEQUENCE:0
DTSTAMP:20260423T043606Z
DTSTART:20251212T090000Z
DTEND:20251212T104000Z
SUMMARY:Программное обеспечение автоматизированных производственных систем
LOCATION:1 к. кафедра Автоматы
END:VEVENT
BEGIN:VEVENT
UID:r4b2@192.168.245.71:3006
SEQUENCE:0
DTSTAMP:20260423T043606Z
DTSTART:20251212T110000Z
DTEND:20251212T124000Z
SUMMARY:Микропроцессорная техника автоматизированного оборудования
LOCATION:1 к. кафедра Автоматы
END:VEVENT
BEGIN:VEVENT
UID:iuxg@192.168.245.71:3006
SEQUENCE:0
DTSTAMP:20260423T043606Z
DTSTART:20251212T130000Z
DTEND:20251212T144000Z
SUMMARY:Проектирование и конструирование мехатронных модулей автоматизиров
 анного технологического оборудования
LOCATION:1 к. кафедра Автоматы
END:VEVENT
BEGIN:VEVENT
UID:sgk2@192.168.245.71:3006
SEQUENCE:0
DTSTAMP:20260423T043606Z
DTSTART:20251213T110000Z
DTEND:20251213T124000Z
SUMMARY:Программное обеспечение автоматизированных производственных систем
LOCATION:1 к. кафедра Автоматы
END:VEVENT
END:VCALENDAR