BEGIN:VCALENDAR
VERSION:2.0
PRODID:-//spbstu.ru//ical//RU
NAME:Расписание группы 3331504/20301
X-WR-CALNAME:Расписание группы 3331504/20301
TIMEZONE-ID:Europe/Moscow
X-WR-TIMEZONE:Europe/Moscow
BEGIN:VEVENT
UID:i4mo@192.168.245.71:3006
SEQUENCE:0
DTSTAMP:20260424T201427Z
DTSTART:20250923T090000Z
DTEND:20250923T104000Z
SUMMARY:Проектирование и конструирование мехатронных модулей автоматизиров
 анного технологического оборудования
LOCATION:1 к. 425
END:VEVENT
BEGIN:VEVENT
UID:wjzl@192.168.245.71:3006
SEQUENCE:0
DTSTAMP:20260424T201427Z
DTSTART:20250923T110000Z
DTEND:20250923T124000Z
SUMMARY:Электронные устройства автоматизированных технологических машин  и
  оборудования
LOCATION:1 к. 41
END:VEVENT
BEGIN:VEVENT
UID:mwa9@192.168.245.71:3006
SEQUENCE:0
DTSTAMP:20260424T201427Z
DTSTART:20250923T130000Z
DTEND:20250923T144000Z
SUMMARY:НИОКР
LOCATION:НИК В2.15
END:VEVENT
BEGIN:VEVENT
UID:6rlf@192.168.245.71:3006
SEQUENCE:0
DTSTAMP:20260424T201427Z
DTSTART:20250924T070000Z
DTEND:20250924T084000Z
SUMMARY:Электрические\, гидравлические и пневматические приводы мехатронны
 х и робототехнических устройств
LOCATION:ГЗ 215
END:VEVENT
BEGIN:VEVENT
UID:q9im@192.168.245.71:3006
SEQUENCE:0
DTSTAMP:20260424T201427Z
DTSTART:20250924T090000Z
DTEND:20250924T104000Z
SUMMARY:Эргономика
LOCATION:1 к. 420
END:VEVENT
BEGIN:VEVENT
UID:6f9e@192.168.245.71:3006
SEQUENCE:0
DTSTAMP:20260424T201427Z
DTSTART:20250924T110000Z
DTEND:20250924T124000Z
SUMMARY:Микропроцессорная техника автоматизированного оборудования
LOCATION:1 к. 425
END:VEVENT
BEGIN:VEVENT
UID:rpcn@192.168.245.71:3006
SEQUENCE:0
DTSTAMP:20260424T201427Z
DTSTART:20250925T050000Z
DTEND:20250925T064000Z
SUMMARY:Машиностроительная схемотехника
LOCATION:ГЗ 215
END:VEVENT
BEGIN:VEVENT
UID:z15l@192.168.245.71:3006
SEQUENCE:0
DTSTAMP:20260424T201427Z
DTSTART:20250925T070000Z
DTEND:20250925T084000Z
SUMMARY:Электрические\, гидравлические и пневматические приводы мехатронны
 х и робототехнических устройств
LOCATION:1 к. 440
END:VEVENT
BEGIN:VEVENT
UID:nbyf@192.168.245.71:3006
SEQUENCE:0
DTSTAMP:20260424T201427Z
DTSTART:20250925T090000Z
DTEND:20250925T104000Z
SUMMARY:Программное обеспечение автоматизированных производственных систем
LOCATION:1 к. 413
END:VEVENT
BEGIN:VEVENT
UID:1a6n@192.168.245.71:3006
SEQUENCE:0
DTSTAMP:20260424T201427Z
DTSTART:20250925T110000Z
DTEND:20250925T124000Z
SUMMARY:Мехатронные модули современного технологического оборудования  (на
  английском языке)
LOCATION:1 к. кафедра Автоматы
END:VEVENT
BEGIN:VEVENT
UID:8ft1@192.168.245.71:3006
SEQUENCE:0
DTSTAMP:20260424T201427Z
DTSTART:20250926T070000Z
DTEND:20250926T084000Z
SUMMARY:Электронные устройства автоматизированных технологических машин  и
  оборудования
LOCATION:ГЗ 271
END:VEVENT
BEGIN:VEVENT
UID:avch@192.168.245.71:3006
SEQUENCE:0
DTSTAMP:20260424T201427Z
DTSTART:20250926T090000Z
DTEND:20250926T104000Z
SUMMARY:Программное обеспечение автоматизированных производственных систем
LOCATION:1 к. кафедра Автоматы
END:VEVENT
BEGIN:VEVENT
UID:pkwh@192.168.245.71:3006
SEQUENCE:0
DTSTAMP:20260424T201427Z
DTSTART:20250926T110000Z
DTEND:20250926T124000Z
SUMMARY:Микропроцессорная техника автоматизированного оборудования
LOCATION:1 к. кафедра Автоматы
END:VEVENT
BEGIN:VEVENT
UID:cpxt@192.168.245.71:3006
SEQUENCE:0
DTSTAMP:20260424T201427Z
DTSTART:20250926T130000Z
DTEND:20250926T144000Z
SUMMARY:Проектирование и конструирование мехатронных модулей автоматизиров
 анного технологического оборудования
LOCATION:1 к. кафедра Автоматы
END:VEVENT
END:VCALENDAR