BEGIN:VCALENDAR
VERSION:2.0
PRODID:-//spbstu.ru//ical//RU
NAME:Расписание группы 3331504/20301
X-WR-CALNAME:Расписание группы 3331504/20301
TIMEZONE-ID:Europe/Moscow
X-WR-TIMEZONE:Europe/Moscow
BEGIN:VEVENT
UID:7gay@192.168.245.71:3006
SEQUENCE:0
DTSTAMP:20260424T145246Z
DTSTART:20250930T090000Z
DTEND:20250930T104000Z
SUMMARY:Проектирование и конструирование мехатронных модулей автоматизиров
 анного технологического оборудования
LOCATION:1 к. 425
END:VEVENT
BEGIN:VEVENT
UID:yimu@192.168.245.71:3006
SEQUENCE:0
DTSTAMP:20260424T145246Z
DTSTART:20250930T110000Z
DTEND:20250930T124000Z
SUMMARY:Электронные устройства автоматизированных технологических машин  и
  оборудования
LOCATION:1 к. 41
END:VEVENT
BEGIN:VEVENT
UID:ifq0@192.168.245.71:3006
SEQUENCE:0
DTSTAMP:20260424T145246Z
DTSTART:20250930T130000Z
DTEND:20250930T144000Z
SUMMARY:НИОКР
LOCATION:НИК В2.15
END:VEVENT
BEGIN:VEVENT
UID:fk9k@192.168.245.71:3006
SEQUENCE:0
DTSTAMP:20260424T145246Z
DTSTART:20251001T070000Z
DTEND:20251001T084000Z
SUMMARY:Электрические\, гидравлические и пневматические приводы мехатронны
 х и робототехнических устройств
LOCATION:ГЗ 215
END:VEVENT
BEGIN:VEVENT
UID:i1s1@192.168.245.71:3006
SEQUENCE:0
DTSTAMP:20260424T145246Z
DTSTART:20251001T090000Z
DTEND:20251001T104000Z
SUMMARY:Электрические\, гидравлические и пневматические приводы мехатронны
 х и робототехнических устройств
LOCATION:9 к. 115
END:VEVENT
BEGIN:VEVENT
UID:fov4@192.168.245.71:3006
SEQUENCE:0
DTSTAMP:20260424T145246Z
DTSTART:20251001T110000Z
DTEND:20251001T124000Z
SUMMARY:Микропроцессорная техника автоматизированного оборудования
LOCATION:1 к. 425
END:VEVENT
BEGIN:VEVENT
UID:gpqy@192.168.245.71:3006
SEQUENCE:0
DTSTAMP:20260424T145246Z
DTSTART:20251001T130000Z
DTEND:20251001T144000Z
SUMMARY:Эргономика
LOCATION:Хим. к. 52
END:VEVENT
BEGIN:VEVENT
UID:gahf@192.168.245.71:3006
SEQUENCE:0
DTSTAMP:20260424T145246Z
DTSTART:20251002T050000Z
DTEND:20251002T064000Z
SUMMARY:Машиностроительная схемотехника
LOCATION:ГЗ 215
END:VEVENT
BEGIN:VEVENT
UID:7i5u@192.168.245.71:3006
SEQUENCE:0
DTSTAMP:20260424T145246Z
DTSTART:20251002T070000Z
DTEND:20251002T084000Z
SUMMARY:Машиностроительная схемотехника
LOCATION:1 к. кафедра Автоматы
END:VEVENT
BEGIN:VEVENT
UID:4zx6@192.168.245.71:3006
SEQUENCE:0
DTSTAMP:20260424T145246Z
DTSTART:20251002T090000Z
DTEND:20251002T104000Z
SUMMARY:Программное обеспечение автоматизированных производственных систем
LOCATION:1 к. 413
END:VEVENT
BEGIN:VEVENT
UID:spm2@192.168.245.71:3006
SEQUENCE:0
DTSTAMP:20260424T145246Z
DTSTART:20251002T110000Z
DTEND:20251002T124000Z
SUMMARY:Мехатронные модули современного технологического оборудования  (на
  английском языке)
LOCATION:1 к. кафедра Автоматы
END:VEVENT
BEGIN:VEVENT
UID:bp77@192.168.245.71:3006
SEQUENCE:0
DTSTAMP:20260424T145246Z
DTSTART:20251003T070000Z
DTEND:20251003T084000Z
SUMMARY:Электронные устройства автоматизированных технологических машин  и
  оборудования
LOCATION:ГЗ 271
END:VEVENT
BEGIN:VEVENT
UID:w3j6@192.168.245.71:3006
SEQUENCE:0
DTSTAMP:20260424T145246Z
DTSTART:20251003T090000Z
DTEND:20251003T104000Z
SUMMARY:Программное обеспечение автоматизированных производственных систем
LOCATION:1 к. кафедра Автоматы
END:VEVENT
BEGIN:VEVENT
UID:bqg7@192.168.245.71:3006
SEQUENCE:0
DTSTAMP:20260424T145246Z
DTSTART:20251003T110000Z
DTEND:20251003T124000Z
SUMMARY:Микропроцессорная техника автоматизированного оборудования
LOCATION:1 к. кафедра Автоматы
END:VEVENT
BEGIN:VEVENT
UID:hexq@192.168.245.71:3006
SEQUENCE:0
DTSTAMP:20260424T145246Z
DTSTART:20251003T130000Z
DTEND:20251003T144000Z
SUMMARY:Проектирование и конструирование мехатронных модулей автоматизиров
 анного технологического оборудования
LOCATION:1 к. кафедра Автоматы
END:VEVENT
BEGIN:VEVENT
UID:d4lg@192.168.245.71:3006
SEQUENCE:0
DTSTAMP:20260424T145246Z
DTSTART:20251004T110000Z
DTEND:20251004T124000Z
SUMMARY:Программное обеспечение автоматизированных производственных систем
LOCATION:1 к. кафедра Автоматы
END:VEVENT
END:VCALENDAR