BEGIN:VCALENDAR
VERSION:2.0
PRODID:-//spbstu.ru//ical//RU
NAME:Расписание группы 3331505/20102
X-WR-CALNAME:Расписание группы 3331505/20102
TIMEZONE-ID:Europe/Moscow
X-WR-TIMEZONE:Europe/Moscow
BEGIN:VEVENT
UID:iw4f@192.168.245.71:3006
SEQUENCE:0
DTSTAMP:20260424T010322Z
DTSTART:20251014T090000Z
DTEND:20251014T104000Z
SUMMARY:Программирование станков с ЧПУ
LOCATION:Мех. к. каф.Т М
END:VEVENT
BEGIN:VEVENT
UID:cs8z@192.168.245.71:3006
SEQUENCE:0
DTSTAMP:20260424T010322Z
DTSTART:20251014T110000Z
DTEND:20251014T124000Z
SUMMARY:Устройство автомобиля
LOCATION:Мех. к. каф.Т М
END:VEVENT
BEGIN:VEVENT
UID:7p57@192.168.245.71:3006
SEQUENCE:0
DTSTAMP:20260424T010322Z
DTSTART:20251015T070000Z
DTEND:20251015T084000Z
SUMMARY:САПР технологических процессов
LOCATION:Мех. к. каф.Т М
END:VEVENT
BEGIN:VEVENT
UID:jban@192.168.245.71:3006
SEQUENCE:0
DTSTAMP:20260424T010322Z
DTSTART:20251015T090000Z
DTEND:20251015T104000Z
SUMMARY:САПР технологических процессов
LOCATION:Мех. к. каф.Т М
END:VEVENT
BEGIN:VEVENT
UID:86sh@192.168.245.71:3006
SEQUENCE:0
DTSTAMP:20260424T010322Z
DTSTART:20251016T110000Z
DTEND:20251016T124000Z
SUMMARY:Режущие инструменты
LOCATION:Мех. к. каф.Т М
END:VEVENT
BEGIN:VEVENT
UID:aq4l@192.168.245.71:3006
SEQUENCE:0
DTSTAMP:20260424T010322Z
DTSTART:20251016T130000Z
DTEND:20251016T144000Z
SUMMARY:Технология машиностроения
LOCATION:Мех. к. каф.Т М
END:VEVENT
BEGIN:VEVENT
UID:3kho@192.168.245.71:3006
SEQUENCE:0
DTSTAMP:20260424T010322Z
DTSTART:20251017T070000Z
DTEND:20251017T084000Z
SUMMARY:Режущие инструменты
LOCATION:1 к. 41
END:VEVENT
BEGIN:VEVENT
UID:lnq3@192.168.245.71:3006
SEQUENCE:0
DTSTAMP:20260424T010322Z
DTSTART:20251017T090000Z
DTEND:20251017T104000Z
SUMMARY:Устройство автомобиля
LOCATION:Мех. к. каф.Т М
END:VEVENT
BEGIN:VEVENT
UID:ru86@192.168.245.71:3006
SEQUENCE:0
DTSTAMP:20260424T010322Z
DTSTART:20251017T110000Z
DTEND:20251017T124000Z
SUMMARY:Технология машиностроения
LOCATION:ГЗ 153
END:VEVENT
END:VCALENDAR