BEGIN:VCALENDAR
VERSION:2.0
PRODID:-//spbstu.ru//ical//RU
NAME:Расписание группы 3331505/20102
X-WR-CALNAME:Расписание группы 3331505/20102
TIMEZONE-ID:Europe/Moscow
X-WR-TIMEZONE:Europe/Moscow
BEGIN:VEVENT
UID:7e6v@192.168.245.71:3006
SEQUENCE:0
DTSTAMP:20260424T172710Z
DTSTART:20250916T090000Z
DTEND:20250916T104000Z
SUMMARY:Программирование станков с ЧПУ
LOCATION:Мех. к. каф.Т М
END:VEVENT
BEGIN:VEVENT
UID:45k6@192.168.245.71:3006
SEQUENCE:0
DTSTAMP:20260424T172710Z
DTSTART:20250916T110000Z
DTEND:20250916T124000Z
SUMMARY:Устройство автомобиля
LOCATION:Мех. к. каф.Т М
END:VEVENT
BEGIN:VEVENT
UID:iu4g@192.168.245.71:3006
SEQUENCE:0
DTSTAMP:20260424T172710Z
DTSTART:20250917T070000Z
DTEND:20250917T084000Z
SUMMARY:САПР технологических процессов
LOCATION:Мех. к. каф.Т М
END:VEVENT
BEGIN:VEVENT
UID:6ig1@192.168.245.71:3006
SEQUENCE:0
DTSTAMP:20260424T172710Z
DTSTART:20250917T090000Z
DTEND:20250917T104000Z
SUMMARY:САПР технологических процессов
LOCATION:Мех. к. каф.Т М
END:VEVENT
BEGIN:VEVENT
UID:lp1t@192.168.245.71:3006
SEQUENCE:0
DTSTAMP:20260424T172710Z
DTSTART:20250918T110000Z
DTEND:20250918T124000Z
SUMMARY:Режущие инструменты
LOCATION:Мех. к. каф.Т М
END:VEVENT
BEGIN:VEVENT
UID:h6lq@192.168.245.71:3006
SEQUENCE:0
DTSTAMP:20260424T172710Z
DTSTART:20250918T130000Z
DTEND:20250918T144000Z
SUMMARY:Технология машиностроения
LOCATION:Мех. к. каф.Т М
END:VEVENT
BEGIN:VEVENT
UID:21u2@192.168.245.71:3006
SEQUENCE:0
DTSTAMP:20260424T172710Z
DTSTART:20250919T070000Z
DTEND:20250919T084000Z
SUMMARY:Режущие инструменты
LOCATION:1 к. 41
END:VEVENT
BEGIN:VEVENT
UID:zdcy@192.168.245.71:3006
SEQUENCE:0
DTSTAMP:20260424T172710Z
DTSTART:20250919T090000Z
DTEND:20250919T104000Z
SUMMARY:Устройство автомобиля
LOCATION:Мех. к. каф.Т М
END:VEVENT
BEGIN:VEVENT
UID:rg9x@192.168.245.71:3006
SEQUENCE:0
DTSTAMP:20260424T172710Z
DTSTART:20250919T110000Z
DTEND:20250919T124000Z
SUMMARY:Технология машиностроения
LOCATION:ГЗ 153
END:VEVENT
END:VCALENDAR