BEGIN:VCALENDAR
VERSION:2.0
PRODID:-//spbstu.ru//ical//RU
NAME:Расписание группы 3331505/20102
X-WR-CALNAME:Расписание группы 3331505/20102
TIMEZONE-ID:Europe/Moscow
X-WR-TIMEZONE:Europe/Moscow
BEGIN:VEVENT
UID:m92a@192.168.245.71:3006
SEQUENCE:0
DTSTAMP:20260421T230252Z
DTSTART:20260119T070000Z
DTEND:20260119T100000Z
SUMMARY:Программирование станков с ЧПУ
LOCATION:Мех. к. каф.Т М
END:VEVENT
BEGIN:VEVENT
UID:ll38@192.168.245.71:3006
SEQUENCE:0
DTSTAMP:20260421T230252Z
DTSTART:20260121T070000Z
DTEND:20260121T100000Z
SUMMARY:Режущие инструменты
LOCATION:Мех. к. каф.Т М
END:VEVENT
BEGIN:VEVENT
UID:k033@192.168.245.71:3006
SEQUENCE:0
DTSTAMP:20260421T230252Z
DTSTART:20260121T100000Z
DTEND:20260121T130000Z
SUMMARY:Режущие инструменты
LOCATION:Мех. к. каф.Т М
END:VEVENT
BEGIN:VEVENT
UID:za8p@192.168.245.71:3006
SEQUENCE:0
DTSTAMP:20260421T230252Z
DTSTART:20260122T070000Z
DTEND:20260122T074500Z
SUMMARY:Режущие инструменты
LOCATION:Мех. к. каф.Т М
END:VEVENT
BEGIN:VEVENT
UID:ui9v@192.168.245.71:3006
SEQUENCE:0
DTSTAMP:20260421T230252Z
DTSTART:20260124T070000Z
DTEND:20260124T110000Z
SUMMARY:Режущие инструменты
LOCATION:Мех. к. каф.Т М
END:VEVENT
END:VCALENDAR