BEGIN:VCALENDAR
VERSION:2.0
PRODID:-//spbstu.ru//ical//RU
NAME:Расписание группы 3331505/20102
X-WR-CALNAME:Расписание группы 3331505/20102
TIMEZONE-ID:Europe/Moscow
X-WR-TIMEZONE:Europe/Moscow
BEGIN:VEVENT
UID:ugti@192.168.245.71:3006
SEQUENCE:0
DTSTAMP:20260421T173331Z
DTSTART:20260211T070000Z
DTEND:20260211T084000Z
SUMMARY:Нормирование точности и технические измерения в машиностроении
LOCATION:Мех. к. каф.Т М
END:VEVENT
BEGIN:VEVENT
UID:nzag@192.168.245.71:3006
SEQUENCE:0
DTSTAMP:20260421T173331Z
DTSTART:20260211T090000Z
DTEND:20260211T104000Z
SUMMARY:Автоматизация технологических процессов
LOCATION:ГЗ 153
END:VEVENT
BEGIN:VEVENT
UID:0g40@192.168.245.71:3006
SEQUENCE:0
DTSTAMP:20260421T173331Z
DTSTART:20260212T070000Z
DTEND:20260212T084000Z
SUMMARY:Оборудование машиностроительных производств
LOCATION:Мех. к. каф.Т М
END:VEVENT
BEGIN:VEVENT
UID:5c9a@192.168.245.71:3006
SEQUENCE:0
DTSTAMP:20260421T173331Z
DTSTART:20260212T090000Z
DTEND:20260212T104000Z
SUMMARY:Компьютерный расчет и проектирование средств технологического осна
 щения
LOCATION:Мех. к. каф.Т М
END:VEVENT
BEGIN:VEVENT
UID:q8qn@192.168.245.71:3006
SEQUENCE:0
DTSTAMP:20260421T173331Z
DTSTART:20260212T110000Z
DTEND:20260212T124000Z
SUMMARY:Компьютерный расчет и проектирование средств технологического осна
 щения
LOCATION:Мех. к. каф.Т М
END:VEVENT
BEGIN:VEVENT
UID:ak2d@192.168.245.71:3006
SEQUENCE:0
DTSTAMP:20260421T173331Z
DTSTART:20260212T130000Z
DTEND:20260212T144000Z
SUMMARY:Нормирование точности и технические измерения в машиностроении
LOCATION:Мех. к. каф.Т М
END:VEVENT
BEGIN:VEVENT
UID:x2vf@192.168.245.71:3006
SEQUENCE:0
DTSTAMP:20260421T173331Z
DTSTART:20260213T090000Z
DTEND:20260213T104000Z
SUMMARY:Автоматизация технологических процессов
LOCATION:1 к. кафедра Автоматы
END:VEVENT
BEGIN:VEVENT
UID:kpnc@192.168.245.71:3006
SEQUENCE:0
DTSTAMP:20260421T173331Z
DTSTART:20260213T110000Z
DTEND:20260213T124000Z
SUMMARY:Проектирование машиностроительных производств
LOCATION:Мех. к. каф.Т ММ
END:VEVENT
BEGIN:VEVENT
UID:b56r@192.168.245.71:3006
SEQUENCE:0
DTSTAMP:20260421T173331Z
DTSTART:20260213T110000Z
DTEND:20260213T130000Z
SUMMARY:Технология машиностроения
LOCATION:Мех. к. каф.Т М
END:VEVENT
BEGIN:VEVENT
UID:nr9d@192.168.245.71:3006
SEQUENCE:0
DTSTAMP:20260421T173331Z
DTSTART:20260213T130000Z
DTEND:20260213T144000Z
SUMMARY:Оборудование машиностроительных производств
LOCATION:Мех. к. каф.Т М
END:VEVENT
END:VCALENDAR