BEGIN:VCALENDAR
VERSION:2.0
PRODID:-//spbstu.ru//ical//RU
NAME:Расписание группы 3331505/21001
X-WR-CALNAME:Расписание группы 3331505/21001
TIMEZONE-ID:Europe/Moscow
X-WR-TIMEZONE:Europe/Moscow
BEGIN:VEVENT
UID:jduv@192.168.245.71:3006
SEQUENCE:0
DTSTAMP:20260421T152503Z
DTSTART:20260318T110000Z
DTEND:20260318T124000Z
SUMMARY:Числовое программное оборудование машиностроительных производств
LOCATION:Мех. к. каф.Т М
END:VEVENT
BEGIN:VEVENT
UID:klcg@192.168.245.71:3006
SEQUENCE:0
DTSTAMP:20260421T152503Z
DTSTART:20260318T130000Z
DTEND:20260318T135000Z
SUMMARY:Числовое программное оборудование машиностроительных производств
LOCATION:Мех. к. каф.Т М
END:VEVENT
BEGIN:VEVENT
UID:p5jl@192.168.245.71:3006
SEQUENCE:0
DTSTAMP:20260421T152503Z
DTSTART:20260319T060000Z
DTEND:20260319T065000Z
SUMMARY:Цифровые системы измерения и контроля в машиностроении
LOCATION:Мех. к. каф.Т М
END:VEVENT
BEGIN:VEVENT
UID:s65m@192.168.245.71:3006
SEQUENCE:0
DTSTAMP:20260421T152503Z
DTSTART:20260319T070000Z
DTEND:20260319T084000Z
SUMMARY:Цифровые системы измерения и контроля в машиностроении
LOCATION:Мех. к. каф.Т М
END:VEVENT
BEGIN:VEVENT
UID:49ik@192.168.245.71:3006
SEQUENCE:0
DTSTAMP:20260421T152503Z
DTSTART:20260319T090000Z
DTEND:20260319T104000Z
SUMMARY:Компьютерный расчет и проектирование средств технологического осна
 щения
LOCATION:Мех. к. каф.Т М
END:VEVENT
BEGIN:VEVENT
UID:g5t8@192.168.245.71:3006
SEQUENCE:0
DTSTAMP:20260421T152503Z
DTSTART:20260319T110000Z
DTEND:20260319T124000Z
SUMMARY:Компьютерный расчет и проектирование средств технологического осна
 щения
LOCATION:Мех. к. каф.Т М
END:VEVENT
BEGIN:VEVENT
UID:b584@192.168.245.71:3006
SEQUENCE:0
DTSTAMP:20260421T152503Z
DTSTART:20260320T050000Z
DTEND:20260320T064000Z
SUMMARY:Компьютерное моделирование машиностроительных производств
LOCATION:Мех. к. каф.Т М
END:VEVENT
END:VCALENDAR