BEGIN:VCALENDAR
VERSION:2.0
PRODID:-//spbstu.ru//ical//RU
NAME:Расписание группы 3331506/20102
X-WR-CALNAME:Расписание группы 3331506/20102
TIMEZONE-ID:Europe/Moscow
X-WR-TIMEZONE:Europe/Moscow
BEGIN:VEVENT
UID:yzio@192.168.245.71:3006
SEQUENCE:0
DTSTAMP:20260422T063643Z
DTSTART:20260310T090000Z
DTEND:20260310T104000Z
SUMMARY:Электронные устройства мехатронных и робототехнических систем
LOCATION:1 к. 41
END:VEVENT
BEGIN:VEVENT
UID:kv1c@192.168.245.71:3006
SEQUENCE:0
DTSTAMP:20260422T063643Z
DTSTART:20260310T110000Z
DTEND:20260310T124000Z
SUMMARY:Машиностроительная схемотехника
LOCATION:1 к. кафедра Автоматы
END:VEVENT
BEGIN:VEVENT
UID:fyg9@192.168.245.71:3006
SEQUENCE:0
DTSTAMP:20260422T063643Z
DTSTART:20260310T130000Z
DTEND:20260310T144000Z
SUMMARY:Электронные устройства мехатронных и робототехнических систем
LOCATION:ГЗ 272
END:VEVENT
BEGIN:VEVENT
UID:fq5v@192.168.245.71:3006
SEQUENCE:0
DTSTAMP:20260422T063643Z
DTSTART:20260310T130000Z
DTEND:20260310T144000Z
SUMMARY:Электронные устройства мехатронных и робототехнических систем
LOCATION:ГЗ 272
END:VEVENT
BEGIN:VEVENT
UID:kkvt@192.168.245.71:3006
SEQUENCE:0
DTSTAMP:20260422T063643Z
DTSTART:20260311T070000Z
DTEND:20260311T084000Z
SUMMARY:Новые высокоэффективные материалы
LOCATION:БК РКПиСН НОЦ АО \"Обуховский завод\"
END:VEVENT
BEGIN:VEVENT
UID:z8ag@192.168.245.71:3006
SEQUENCE:0
DTSTAMP:20260422T063643Z
DTSTART:20260311T090000Z
DTEND:20260311T104000Z
SUMMARY:Новые высокоэффективные материалы
LOCATION:БК РКПиСН НОЦ АО \"Обуховский завод\"
END:VEVENT
BEGIN:VEVENT
UID:8xuo@192.168.245.71:3006
SEQUENCE:0
DTSTAMP:20260422T063643Z
DTSTART:20260312T070000Z
DTEND:20260312T084000Z
SUMMARY:Машиностроительная схемотехника
LOCATION:ГЗ 122
END:VEVENT
BEGIN:VEVENT
UID:4pv0@192.168.245.71:3006
SEQUENCE:0
DTSTAMP:20260422T063643Z
DTSTART:20260312T090000Z
DTEND:20260312T104000Z
SUMMARY:Электрические\, гидравлические и пневматические приводы мехатронны
 х и робототехнических устройств
LOCATION:1 к. кафедра Автоматы
END:VEVENT
BEGIN:VEVENT
UID:vxz6@192.168.245.71:3006
SEQUENCE:0
DTSTAMP:20260422T063643Z
DTSTART:20260312T110000Z
DTEND:20260312T124000Z
SUMMARY:Мехатронные модули современного технологического оборудования (на 
 английском языке)
LOCATION:1 к. кафедра Автоматы
END:VEVENT
BEGIN:VEVENT
UID:x7es@192.168.245.71:3006
SEQUENCE:0
DTSTAMP:20260422T063643Z
DTSTART:20260312T110000Z
DTEND:20260312T124000Z
SUMMARY:Мехатронные модули современного технологического оборудования (на 
 английском языке)
LOCATION:1 к. кафедра Автоматы
END:VEVENT
BEGIN:VEVENT
UID:vc3x@192.168.245.71:3006
SEQUENCE:0
DTSTAMP:20260422T063643Z
DTSTART:20260312T130000Z
DTEND:20260312T144000Z
SUMMARY:Электрические\, гидравлические и пневматические приводы мехатронны
 х и робототехнических устройств
LOCATION:ГЗ 215
END:VEVENT
BEGIN:VEVENT
UID:1jb0@192.168.245.71:3006
SEQUENCE:0
DTSTAMP:20260422T063643Z
DTSTART:20260313T070000Z
DTEND:20260313T084000Z
SUMMARY:Организация проектно-конструкторских работ
LOCATION:БК РКПиСН НОЦ АО \"Обуховский завод\"
END:VEVENT
BEGIN:VEVENT
UID:u14s@192.168.245.71:3006
SEQUENCE:0
DTSTAMP:20260422T063643Z
DTSTART:20260313T090000Z
DTEND:20260313T104000Z
SUMMARY:Организация проектно-конструкторских работ
LOCATION:БК РКПиСН НОЦ АО \"Обуховский завод\"
END:VEVENT
BEGIN:VEVENT
UID:b88d@192.168.245.71:3006
SEQUENCE:0
DTSTAMP:20260422T063643Z
DTSTART:20260313T110000Z
DTEND:20260313T124000Z
SUMMARY:Основы СМК на промышленном предприятии
LOCATION:БК РКПиСН НОЦ АО \"Обуховский завод\"
END:VEVENT
BEGIN:VEVENT
UID:o5ky@192.168.245.71:3006
SEQUENCE:0
DTSTAMP:20260422T063643Z
DTSTART:20260313T130000Z
DTEND:20260313T144000Z
SUMMARY:Основы СМК на промышленном предприятии
LOCATION:БК РКПиСН НОЦ АО \"Обуховский завод\"
END:VEVENT
END:VCALENDAR