BEGIN:VCALENDAR
VERSION:2.0
PRODID:-//spbstu.ru//ical//RU
NAME:Расписание группы 3331506/20102
X-WR-CALNAME:Расписание группы 3331506/20102
TIMEZONE-ID:Europe/Moscow
X-WR-TIMEZONE:Europe/Moscow
BEGIN:VEVENT
UID:bdb4@192.168.245.71:3006
SEQUENCE:0
DTSTAMP:20260422T045811Z
DTSTART:20260407T090000Z
DTEND:20260407T104000Z
SUMMARY:Электронные устройства мехатронных и робототехнических систем
LOCATION:1 к. 41
END:VEVENT
BEGIN:VEVENT
UID:ufhm@192.168.245.71:3006
SEQUENCE:0
DTSTAMP:20260422T045811Z
DTSTART:20260407T110000Z
DTEND:20260407T124000Z
SUMMARY:Машиностроительная схемотехника
LOCATION:1 к. кафедра Автоматы
END:VEVENT
BEGIN:VEVENT
UID:tb6j@192.168.245.71:3006
SEQUENCE:0
DTSTAMP:20260422T045811Z
DTSTART:20260407T130000Z
DTEND:20260407T144000Z
SUMMARY:Электронные устройства мехатронных и робототехнических систем
LOCATION:ГЗ 272
END:VEVENT
BEGIN:VEVENT
UID:pvke@192.168.245.71:3006
SEQUENCE:0
DTSTAMP:20260422T045811Z
DTSTART:20260407T130000Z
DTEND:20260407T144000Z
SUMMARY:Электронные устройства мехатронных и робототехнических систем
LOCATION:ГЗ 272
END:VEVENT
BEGIN:VEVENT
UID:s5rk@192.168.245.71:3006
SEQUENCE:0
DTSTAMP:20260422T045811Z
DTSTART:20260408T070000Z
DTEND:20260408T084000Z
SUMMARY:Новые высокоэффективные материалы
LOCATION:БК РКПиСН НОЦ АО \"Обуховский завод\"
END:VEVENT
BEGIN:VEVENT
UID:tr03@192.168.245.71:3006
SEQUENCE:0
DTSTAMP:20260422T045811Z
DTSTART:20260408T090000Z
DTEND:20260408T104000Z
SUMMARY:Новые высокоэффективные материалы
LOCATION:БК РКПиСН НОЦ АО \"Обуховский завод\"
END:VEVENT
BEGIN:VEVENT
UID:rdcn@192.168.245.71:3006
SEQUENCE:0
DTSTAMP:20260422T045811Z
DTSTART:20260409T070000Z
DTEND:20260409T084000Z
SUMMARY:Машиностроительная схемотехника
LOCATION:ГЗ 122
END:VEVENT
BEGIN:VEVENT
UID:6pps@192.168.245.71:3006
SEQUENCE:0
DTSTAMP:20260422T045811Z
DTSTART:20260409T090000Z
DTEND:20260409T104000Z
SUMMARY:Электрические\, гидравлические и пневматические приводы мехатронны
 х и робототехнических устройств
LOCATION:1 к. кафедра Автоматы
END:VEVENT
BEGIN:VEVENT
UID:9xmd@192.168.245.71:3006
SEQUENCE:0
DTSTAMP:20260422T045811Z
DTSTART:20260409T110000Z
DTEND:20260409T124000Z
SUMMARY:Мехатронные модули современного технологического оборудования (на 
 английском языке)
LOCATION:1 к. кафедра Автоматы
END:VEVENT
BEGIN:VEVENT
UID:aw4i@192.168.245.71:3006
SEQUENCE:0
DTSTAMP:20260422T045811Z
DTSTART:20260409T110000Z
DTEND:20260409T124000Z
SUMMARY:Мехатронные модули современного технологического оборудования (на 
 английском языке)
LOCATION:1 к. кафедра Автоматы
END:VEVENT
BEGIN:VEVENT
UID:lgsc@192.168.245.71:3006
SEQUENCE:0
DTSTAMP:20260422T045811Z
DTSTART:20260409T130000Z
DTEND:20260409T144000Z
SUMMARY:Электрические\, гидравлические и пневматические приводы мехатронны
 х и робототехнических устройств
LOCATION:ГЗ 215
END:VEVENT
BEGIN:VEVENT
UID:ynv8@192.168.245.71:3006
SEQUENCE:0
DTSTAMP:20260422T045811Z
DTSTART:20260410T070000Z
DTEND:20260410T084000Z
SUMMARY:Организация проектно-конструкторских работ
LOCATION:БК РКПиСН НОЦ АО \"Обуховский завод\"
END:VEVENT
BEGIN:VEVENT
UID:ibnz@192.168.245.71:3006
SEQUENCE:0
DTSTAMP:20260422T045811Z
DTSTART:20260410T090000Z
DTEND:20260410T104000Z
SUMMARY:Организация проектно-конструкторских работ
LOCATION:БК РКПиСН НОЦ АО \"Обуховский завод\"
END:VEVENT
BEGIN:VEVENT
UID:zugc@192.168.245.71:3006
SEQUENCE:0
DTSTAMP:20260422T045811Z
DTSTART:20260410T110000Z
DTEND:20260410T124000Z
SUMMARY:Основы СМК на промышленном предприятии
LOCATION:БК РКПиСН НОЦ АО \"Обуховский завод\"
END:VEVENT
BEGIN:VEVENT
UID:siyq@192.168.245.71:3006
SEQUENCE:0
DTSTAMP:20260422T045811Z
DTSTART:20260410T130000Z
DTEND:20260410T144000Z
SUMMARY:Основы СМК на промышленном предприятии
LOCATION:БК РКПиСН НОЦ АО \"Обуховский завод\"
END:VEVENT
END:VCALENDAR