BEGIN:VCALENDAR
VERSION:2.0
PRODID:-//spbstu.ru//ical//RU
NAME:Расписание группы 3332201/20101
X-WR-CALNAME:Расписание группы 3332201/20101
TIMEZONE-ID:Europe/Moscow
X-WR-TIMEZONE:Europe/Moscow
BEGIN:VEVENT
UID:ksmi@192.168.245.71:3006
SEQUENCE:0
DTSTAMP:20260425T125106Z
DTSTART:20251028T070000Z
DTEND:20251028T084000Z
SUMMARY:Технологии получения порошковых материалов
LOCATION:Хим. к. 82
END:VEVENT
BEGIN:VEVENT
UID:fi8b@192.168.245.71:3006
SEQUENCE:0
DTSTAMP:20260425T125106Z
DTSTART:20251028T090000Z
DTEND:20251028T104000Z
SUMMARY:Технологии получения порошковых материалов
LOCATION:Хим. к. Прокатка2
END:VEVENT
BEGIN:VEVENT
UID:stsv@192.168.245.71:3006
SEQUENCE:0
DTSTAMP:20260425T125106Z
DTSTART:20251028T110000Z
DTEND:20251028T124000Z
SUMMARY:Технологии получения порошковых материалов
LOCATION:Хим. к. Прокатка1
END:VEVENT
BEGIN:VEVENT
UID:im3q@192.168.245.71:3006
SEQUENCE:0
DTSTAMP:20260425T125106Z
DTSTART:20251028T130000Z
DTEND:20251028T144000Z
SUMMARY:Основы технологии ОМД
LOCATION:Хим. к. Прокатка1
END:VEVENT
BEGIN:VEVENT
UID:63p1@192.168.245.71:3006
SEQUENCE:0
DTSTAMP:20260425T125106Z
DTSTART:20251029T070000Z
DTEND:20251029T084000Z
SUMMARY:Экологические проблемы материаловедения
LOCATION:Хим. к. Прокатка1
END:VEVENT
BEGIN:VEVENT
UID:ljgb@192.168.245.71:3006
SEQUENCE:0
DTSTAMP:20260425T125106Z
DTSTART:20251029T090000Z
DTEND:20251029T104000Z
SUMMARY:Технологии получения порошковых материалов
LOCATION:Хим. к. Прокатка2
END:VEVENT
BEGIN:VEVENT
UID:ketm@192.168.245.71:3006
SEQUENCE:0
DTSTAMP:20260425T125106Z
DTSTART:20251030T070000Z
DTEND:20251030T084000Z
SUMMARY:Основы научных исследований
LOCATION:Хим. к. 55
END:VEVENT
BEGIN:VEVENT
UID:pbsv@192.168.245.71:3006
SEQUENCE:0
DTSTAMP:20260425T125106Z
DTSTART:20251030T090000Z
DTEND:20251030T104000Z
SUMMARY:Основы технологии ОМД
LOCATION:Хим. к. 82
END:VEVENT
BEGIN:VEVENT
UID:w0qh@192.168.245.71:3006
SEQUENCE:0
DTSTAMP:20260425T125106Z
DTSTART:20251030T110000Z
DTEND:20251030T124000Z
SUMMARY:Основы технологии ОМД
LOCATION:Хим. к. Прокатка2
END:VEVENT
BEGIN:VEVENT
UID:482w@192.168.245.71:3006
SEQUENCE:0
DTSTAMP:20260425T125106Z
DTSTART:20251030T110000Z
DTEND:20251030T124000Z
SUMMARY:Технологии получения порошковых материалов
LOCATION:Хим. к. 82
END:VEVENT
BEGIN:VEVENT
UID:eiut@192.168.245.71:3006
SEQUENCE:0
DTSTAMP:20260425T125106Z
DTSTART:20251030T130000Z
DTEND:20251030T144000Z
SUMMARY:Технологии получения порошковых материалов
LOCATION:Хим. к. Прокатка2
END:VEVENT
BEGIN:VEVENT
UID:uu3r@192.168.245.71:3006
SEQUENCE:0
DTSTAMP:20260425T125106Z
DTSTART:20251031T070000Z
DTEND:20251031T084000Z
SUMMARY:Спекание порошковых материалов
LOCATION:Хим. к. 56
END:VEVENT
BEGIN:VEVENT
UID:w0pt@192.168.245.71:3006
SEQUENCE:0
DTSTAMP:20260425T125106Z
DTSTART:20251031T090000Z
DTEND:20251031T104000Z
SUMMARY:Спекание порошковых материалов
LOCATION:Хим. к. Прокатка1
END:VEVENT
BEGIN:VEVENT
UID:vq0u@192.168.245.71:3006
SEQUENCE:0
DTSTAMP:20260425T125106Z
DTSTART:20251031T110000Z
DTEND:20251031T124000Z
SUMMARY:Технология и оборудование для производства изделий из компактных и
  порошковых материалов
LOCATION:Хим. к. Прокатка1
END:VEVENT
BEGIN:VEVENT
UID:1ogu@192.168.245.71:3006
SEQUENCE:0
DTSTAMP:20260425T125106Z
DTSTART:20251031T130000Z
DTEND:20251031T144000Z
SUMMARY:Технология и оборудование для производства изделий из компактных и
  порошковых материалов
LOCATION:Хим. к. Прокатка1
END:VEVENT
END:VCALENDAR