BEGIN:VCALENDAR
VERSION:2.0
PRODID:-//spbstu.ru//ical//RU
NAME:Расписание группы 3332201/20101
X-WR-CALNAME:Расписание группы 3332201/20101
TIMEZONE-ID:Europe/Moscow
X-WR-TIMEZONE:Europe/Moscow
BEGIN:VEVENT
UID:xih1@192.168.245.71:3006
SEQUENCE:0
DTSTAMP:20260424T025602Z
DTSTART:20251216T070000Z
DTEND:20251216T084000Z
SUMMARY:Технологии получения порошковых материалов
LOCATION:Хим. к. 82
END:VEVENT
BEGIN:VEVENT
UID:j4yk@192.168.245.71:3006
SEQUENCE:0
DTSTAMP:20260424T025602Z
DTSTART:20251216T090000Z
DTEND:20251216T104000Z
SUMMARY:Технологии получения порошковых материалов
LOCATION:Хим. к. Прокатка2
END:VEVENT
BEGIN:VEVENT
UID:7c2u@192.168.245.71:3006
SEQUENCE:0
DTSTAMP:20260424T025602Z
DTSTART:20251216T110000Z
DTEND:20251216T124000Z
SUMMARY:Технологии получения порошковых материалов
LOCATION:Хим. к. Прокатка1
END:VEVENT
BEGIN:VEVENT
UID:a6xn@192.168.245.71:3006
SEQUENCE:0
DTSTAMP:20260424T025602Z
DTSTART:20251216T130000Z
DTEND:20251216T144000Z
SUMMARY:Основы технологии ОМД
LOCATION:Хим. к. Прокатка1
END:VEVENT
BEGIN:VEVENT
UID:msvu@192.168.245.71:3006
SEQUENCE:0
DTSTAMP:20260424T025602Z
DTSTART:20251217T070000Z
DTEND:20251217T100000Z
SUMMARY:Основы научных исследований
LOCATION:Хим. к. 51
END:VEVENT
BEGIN:VEVENT
UID:21yh@192.168.245.71:3006
SEQUENCE:0
DTSTAMP:20260424T025602Z
DTSTART:20251217T100000Z
DTEND:20251217T130000Z
SUMMARY:Экологические проблемы материаловедения
LOCATION:Хим. к. Прокатка1
END:VEVENT
BEGIN:VEVENT
UID:p5wp@192.168.245.71:3006
SEQUENCE:0
DTSTAMP:20260424T025602Z
DTSTART:20251218T070000Z
DTEND:20251218T100000Z
SUMMARY:Технологии получения порошковых материалов
LOCATION:Хим. к. Прокатка2
END:VEVENT
BEGIN:VEVENT
UID:nogn@192.168.245.71:3006
SEQUENCE:0
DTSTAMP:20260424T025602Z
DTSTART:20251218T100000Z
DTEND:20251218T130000Z
SUMMARY:Технологии получения порошковых материалов
LOCATION:Хим. к. Прокатка2
END:VEVENT
BEGIN:VEVENT
UID:gdas@192.168.245.71:3006
SEQUENCE:0
DTSTAMP:20260424T025602Z
DTSTART:20251219T070000Z
DTEND:20251219T074500Z
SUMMARY:Спекание порошковых материалов
LOCATION:Хим. к. Прокатка1
END:VEVENT
BEGIN:VEVENT
UID:uskt@192.168.245.71:3006
SEQUENCE:0
DTSTAMP:20260424T025602Z
DTSTART:20251219T080000Z
DTEND:20251219T110000Z
SUMMARY:Спекание порошковых материалов
LOCATION:Хим. к. Прокатка1
END:VEVENT
END:VCALENDAR