BEGIN:VCALENDAR
VERSION:2.0
PRODID:-//spbstu.ru//ical//RU
NAME:Расписание группы 3332201/20101
X-WR-CALNAME:Расписание группы 3332201/20101
TIMEZONE-ID:Europe/Moscow
X-WR-TIMEZONE:Europe/Moscow
BEGIN:VEVENT
UID:nzz1@192.168.245.71:3006
SEQUENCE:0
DTSTAMP:20260424T064012Z
DTSTART:20251209T070000Z
DTEND:20251209T084000Z
SUMMARY:Технологии получения порошковых материалов
LOCATION:Хим. к. 82
END:VEVENT
BEGIN:VEVENT
UID:ohd4@192.168.245.71:3006
SEQUENCE:0
DTSTAMP:20260424T064012Z
DTSTART:20251209T090000Z
DTEND:20251209T104000Z
SUMMARY:Технологии получения порошковых материалов
LOCATION:Хим. к. Прокатка2
END:VEVENT
BEGIN:VEVENT
UID:t2ax@192.168.245.71:3006
SEQUENCE:0
DTSTAMP:20260424T064012Z
DTSTART:20251209T110000Z
DTEND:20251209T124000Z
SUMMARY:Технологии получения порошковых материалов
LOCATION:Хим. к. Прокатка1
END:VEVENT
BEGIN:VEVENT
UID:hb5a@192.168.245.71:3006
SEQUENCE:0
DTSTAMP:20260424T064012Z
DTSTART:20251209T130000Z
DTEND:20251209T144000Z
SUMMARY:Основы технологии ОМД
LOCATION:Хим. к. Прокатка1
END:VEVENT
BEGIN:VEVENT
UID:8rlq@192.168.245.71:3006
SEQUENCE:0
DTSTAMP:20260424T064012Z
DTSTART:20251210T070000Z
DTEND:20251210T084000Z
SUMMARY:Экологические проблемы материаловедения
LOCATION:Хим. к. Прокатка1
END:VEVENT
BEGIN:VEVENT
UID:vtl1@192.168.245.71:3006
SEQUENCE:0
DTSTAMP:20260424T064012Z
DTSTART:20251210T090000Z
DTEND:20251210T104000Z
SUMMARY:Технологии получения порошковых материалов
LOCATION:Хим. к. Прокатка2
END:VEVENT
BEGIN:VEVENT
UID:1z34@192.168.245.71:3006
SEQUENCE:0
DTSTAMP:20260424T064012Z
DTSTART:20251211T090000Z
DTEND:20251211T104000Z
SUMMARY:Основы технологии ОМД
LOCATION:Хим. к. 82
END:VEVENT
BEGIN:VEVENT
UID:c7uu@192.168.245.71:3006
SEQUENCE:0
DTSTAMP:20260424T064012Z
DTSTART:20251211T110000Z
DTEND:20251211T124000Z
SUMMARY:Основы технологии ОМД
LOCATION:Хим. к. Прокатка2
END:VEVENT
BEGIN:VEVENT
UID:m5l4@192.168.245.71:3006
SEQUENCE:0
DTSTAMP:20260424T064012Z
DTSTART:20251211T110000Z
DTEND:20251211T124000Z
SUMMARY:Технологии получения порошковых материалов
LOCATION:Хим. к. 82
END:VEVENT
BEGIN:VEVENT
UID:m997@192.168.245.71:3006
SEQUENCE:0
DTSTAMP:20260424T064012Z
DTSTART:20251211T130000Z
DTEND:20251211T144000Z
SUMMARY:Технологии получения порошковых материалов
LOCATION:Хим. к. Прокатка2
END:VEVENT
BEGIN:VEVENT
UID:9zsz@192.168.245.71:3006
SEQUENCE:0
DTSTAMP:20260424T064012Z
DTSTART:20251212T070000Z
DTEND:20251212T084000Z
SUMMARY:Спекание порошковых материалов
LOCATION:Хим. к. 56
END:VEVENT
BEGIN:VEVENT
UID:3d8v@192.168.245.71:3006
SEQUENCE:0
DTSTAMP:20260424T064012Z
DTSTART:20251212T090000Z
DTEND:20251212T104000Z
SUMMARY:Спекание порошковых материалов
LOCATION:Хим. к. Прокатка1
END:VEVENT
BEGIN:VEVENT
UID:jo7e@192.168.245.71:3006
SEQUENCE:0
DTSTAMP:20260424T064012Z
DTSTART:20251212T110000Z
DTEND:20251212T124000Z
SUMMARY:Технология и оборудование для производства изделий из компактных и
  порошковых материалов
LOCATION:Хим. к. Прокатка1
END:VEVENT
BEGIN:VEVENT
UID:9klh@192.168.245.71:3006
SEQUENCE:0
DTSTAMP:20260424T064012Z
DTSTART:20251212T130000Z
DTEND:20251212T144000Z
SUMMARY:Технология и оборудование для производства изделий из компактных и
  порошковых материалов
LOCATION:Хим. к. Прокатка1
END:VEVENT
END:VCALENDAR