BEGIN:VCALENDAR
VERSION:2.0
PRODID:-//spbstu.ru//ical//RU
NAME:Расписание группы 3332201/20101
X-WR-CALNAME:Расписание группы 3332201/20101
TIMEZONE-ID:Europe/Moscow
X-WR-TIMEZONE:Europe/Moscow
BEGIN:VEVENT
UID:5sxw@192.168.245.71:3006
SEQUENCE:0
DTSTAMP:20260426T031505Z
DTSTART:20250930T070000Z
DTEND:20250930T084000Z
SUMMARY:Технологии получения порошковых материалов
LOCATION:Хим. к. 82
END:VEVENT
BEGIN:VEVENT
UID:14sc@192.168.245.71:3006
SEQUENCE:0
DTSTAMP:20260426T031505Z
DTSTART:20250930T090000Z
DTEND:20250930T104000Z
SUMMARY:Технологии получения порошковых материалов
LOCATION:Хим. к. Прокатка2
END:VEVENT
BEGIN:VEVENT
UID:z9qz@192.168.245.71:3006
SEQUENCE:0
DTSTAMP:20260426T031505Z
DTSTART:20250930T110000Z
DTEND:20250930T124000Z
SUMMARY:Технологии получения порошковых материалов
LOCATION:Хим. к. Прокатка1
END:VEVENT
BEGIN:VEVENT
UID:qayu@192.168.245.71:3006
SEQUENCE:0
DTSTAMP:20260426T031505Z
DTSTART:20250930T130000Z
DTEND:20250930T144000Z
SUMMARY:Основы технологии ОМД
LOCATION:Хим. к. Прокатка1
END:VEVENT
BEGIN:VEVENT
UID:15os@192.168.245.71:3006
SEQUENCE:0
DTSTAMP:20260426T031505Z
DTSTART:20251001T070000Z
DTEND:20251001T084000Z
SUMMARY:Экологические проблемы материаловедения
LOCATION:Хим. к. Прокатка1
END:VEVENT
BEGIN:VEVENT
UID:ypwe@192.168.245.71:3006
SEQUENCE:0
DTSTAMP:20260426T031505Z
DTSTART:20251001T090000Z
DTEND:20251001T104000Z
SUMMARY:Технологии получения порошковых материалов
LOCATION:Хим. к. Прокатка2
END:VEVENT
BEGIN:VEVENT
UID:si3r@192.168.245.71:3006
SEQUENCE:0
DTSTAMP:20260426T031505Z
DTSTART:20251002T070000Z
DTEND:20251002T084000Z
SUMMARY:Основы научных исследований
LOCATION:Хим. к. 55
END:VEVENT
BEGIN:VEVENT
UID:lodb@192.168.245.71:3006
SEQUENCE:0
DTSTAMP:20260426T031505Z
DTSTART:20251002T090000Z
DTEND:20251002T104000Z
SUMMARY:Основы технологии ОМД
LOCATION:Хим. к. 82
END:VEVENT
BEGIN:VEVENT
UID:vzvx@192.168.245.71:3006
SEQUENCE:0
DTSTAMP:20260426T031505Z
DTSTART:20251002T110000Z
DTEND:20251002T124000Z
SUMMARY:Основы технологии ОМД
LOCATION:Хим. к. Прокатка2
END:VEVENT
BEGIN:VEVENT
UID:3l5b@192.168.245.71:3006
SEQUENCE:0
DTSTAMP:20260426T031505Z
DTSTART:20251002T110000Z
DTEND:20251002T124000Z
SUMMARY:Технологии получения порошковых материалов
LOCATION:Хим. к. 82
END:VEVENT
BEGIN:VEVENT
UID:ytzt@192.168.245.71:3006
SEQUENCE:0
DTSTAMP:20260426T031505Z
DTSTART:20251002T130000Z
DTEND:20251002T144000Z
SUMMARY:Технологии получения порошковых материалов
LOCATION:Хим. к. Прокатка2
END:VEVENT
BEGIN:VEVENT
UID:iz3v@192.168.245.71:3006
SEQUENCE:0
DTSTAMP:20260426T031505Z
DTSTART:20251003T070000Z
DTEND:20251003T084000Z
SUMMARY:Спекание порошковых материалов
LOCATION:Хим. к. 56
END:VEVENT
BEGIN:VEVENT
UID:ok15@192.168.245.71:3006
SEQUENCE:0
DTSTAMP:20260426T031505Z
DTSTART:20251003T090000Z
DTEND:20251003T104000Z
SUMMARY:Спекание порошковых материалов
LOCATION:Хим. к. Прокатка1
END:VEVENT
BEGIN:VEVENT
UID:eqwd@192.168.245.71:3006
SEQUENCE:0
DTSTAMP:20260426T031505Z
DTSTART:20251003T110000Z
DTEND:20251003T124000Z
SUMMARY:Технология и оборудование для производства изделий из компактных и
  порошковых материалов
LOCATION:Хим. к. Прокатка1
END:VEVENT
BEGIN:VEVENT
UID:hty9@192.168.245.71:3006
SEQUENCE:0
DTSTAMP:20260426T031505Z
DTSTART:20251003T130000Z
DTEND:20251003T144000Z
SUMMARY:Технология и оборудование для производства изделий из компактных и
  порошковых материалов
LOCATION:Хим. к. Прокатка1
END:VEVENT
END:VCALENDAR