BEGIN:VCALENDAR
VERSION:2.0
PRODID:-//spbstu.ru//ical//RU
NAME:Расписание группы 3332201/20101
X-WR-CALNAME:Расписание группы 3332201/20101
TIMEZONE-ID:Europe/Moscow
X-WR-TIMEZONE:Europe/Moscow
BEGIN:VEVENT
UID:fcsd@192.168.245.71:3006
SEQUENCE:0
DTSTAMP:20260422T025302Z
DTSTART:20260505T090000Z
DTEND:20260505T104000Z
SUMMARY:Материаловедение и технология композиционных материалов
LOCATION:Хим. к. Прокатка1
END:VEVENT
BEGIN:VEVENT
UID:7i21@192.168.245.71:3006
SEQUENCE:0
DTSTAMP:20260422T025302Z
DTSTART:20260505T110000Z
DTEND:20260505T124000Z
SUMMARY:Материаловедение и технология композиционных материалов
LOCATION:Хим. к. Прокатка1
END:VEVENT
BEGIN:VEVENT
UID:qjrd@192.168.245.71:3006
SEQUENCE:0
DTSTAMP:20260422T025302Z
DTSTART:20260505T130000Z
DTEND:20260505T144000Z
SUMMARY:Материаловедение и технология композиционных материалов
LOCATION:Хим. к. Прокатка1
END:VEVENT
BEGIN:VEVENT
UID:m4wi@192.168.245.71:3006
SEQUENCE:0
DTSTAMP:20260422T025302Z
DTSTART:20260507T070000Z
DTEND:20260507T084000Z
SUMMARY:Материаловедение и технология композиционных материалов
LOCATION:Хим. к. Прокатка2
END:VEVENT
BEGIN:VEVENT
UID:yxn0@192.168.245.71:3006
SEQUENCE:0
DTSTAMP:20260422T025302Z
DTSTART:20260507T090000Z
DTEND:20260507T104000Z
SUMMARY:Порошковые материалы специального назначения
LOCATION:Хим. к. Прокатка2
END:VEVENT
BEGIN:VEVENT
UID:943g@192.168.245.71:3006
SEQUENCE:0
DTSTAMP:20260422T025302Z
DTSTART:20260508T070000Z
DTEND:20260508T084000Z
SUMMARY:Теория и технология нанесения покрытий
LOCATION:Хим. к. Прокатка2
END:VEVENT
BEGIN:VEVENT
UID:8jam@192.168.245.71:3006
SEQUENCE:0
DTSTAMP:20260422T025302Z
DTSTART:20260508T090000Z
DTEND:20260508T104000Z
SUMMARY:Теория и технология нанесения покрытий
LOCATION:Хим. к. Прокатка1
END:VEVENT
BEGIN:VEVENT
UID:ppwv@192.168.245.71:3006
SEQUENCE:0
DTSTAMP:20260422T025302Z
DTSTART:20260508T110000Z
DTEND:20260508T124000Z
SUMMARY:Теория и технология нанесения покрытий
LOCATION:Хим. к. Прокатка2
END:VEVENT
END:VCALENDAR