BEGIN:VCALENDAR
VERSION:2.0
PRODID:-//spbstu.ru//ical//RU
NAME:Расписание группы 3332705/20101
X-WR-CALNAME:Расписание группы 3332705/20101
TIMEZONE-ID:Europe/Moscow
X-WR-TIMEZONE:Europe/Moscow
BEGIN:VEVENT
UID:k072@192.168.245.71:3006
SEQUENCE:0
DTSTAMP:20260422T011658Z
DTSTART:20260421T090000Z
DTEND:20260421T104000Z
SUMMARY:Стратегии управления организациями
LOCATION:11 к. 350
END:VEVENT
BEGIN:VEVENT
UID:br9d@192.168.245.71:3006
SEQUENCE:0
DTSTAMP:20260422T011658Z
DTSTART:20260423T110000Z
DTEND:20260423T124000Z
SUMMARY:Логика
LOCATION:11 к. 350
END:VEVENT
BEGIN:VEVENT
UID:tl4f@192.168.245.71:3006
SEQUENCE:0
DTSTAMP:20260422T011658Z
DTSTART:20260423T130000Z
DTEND:20260423T144000Z
SUMMARY:Типовые задачи прикладной инноватики
LOCATION:11 к. 345
END:VEVENT
BEGIN:VEVENT
UID:tm2e@192.168.245.71:3006
SEQUENCE:0
DTSTAMP:20260422T011658Z
DTSTART:20260424T070000Z
DTEND:20260424T084000Z
SUMMARY:Технологии нововедений
LOCATION:11 к. 350
END:VEVENT
BEGIN:VEVENT
UID:2cr5@192.168.245.71:3006
SEQUENCE:0
DTSTAMP:20260422T011658Z
DTSTART:20260424T090000Z
DTEND:20260424T104000Z
SUMMARY:Имитационное моделирование\, проектирование
LOCATION:11 к. 344
END:VEVENT
END:VCALENDAR