BEGIN:VCALENDAR
VERSION:2.0
PRODID:-//spbstu.ru//ical//RU
NAME:Расписание группы 3352302/20101
X-WR-CALNAME:Расписание группы 3352302/20101
TIMEZONE-ID:Europe/Moscow
X-WR-TIMEZONE:Europe/Moscow
BEGIN:VEVENT
UID:it68@192.168.245.71:3006
SEQUENCE:0
DTSTAMP:20260426T025135Z
DTSTART:20250909T070000Z
DTEND:20250909T084000Z
SUMMARY:Тепловые двигатели
LOCATION:Мех. к. Учебная лаб. ДВС №84
END:VEVENT
BEGIN:VEVENT
UID:zztz@192.168.245.71:3006
SEQUENCE:0
DTSTAMP:20260426T025135Z
DTSTART:20250909T090000Z
DTEND:20250909T104000Z
SUMMARY:Теория систем автоматического управления
LOCATION:ТВН 304ВШТ
END:VEVENT
BEGIN:VEVENT
UID:mwln@192.168.245.71:3006
SEQUENCE:0
DTSTAMP:20260426T025135Z
DTSTART:20250910T070000Z
DTEND:20250910T084000Z
SUMMARY:Проектирование НТТМ
LOCATION:ТВН 303ВШТ
END:VEVENT
BEGIN:VEVENT
UID:obtt@192.168.245.71:3006
SEQUENCE:0
DTSTAMP:20260426T025135Z
DTSTART:20250910T090000Z
DTEND:20250910T104000Z
SUMMARY:Теория движения НТТМ
LOCATION:ТВН 304ВШТ
END:VEVENT
BEGIN:VEVENT
UID:q7qh@192.168.245.71:3006
SEQUENCE:0
DTSTAMP:20260426T025135Z
DTSTART:20250910T110000Z
DTEND:20250910T124000Z
SUMMARY:Теория движения НТТМ
LOCATION:ТВН 309ВШТ
END:VEVENT
BEGIN:VEVENT
UID:7xj4@192.168.245.71:3006
SEQUENCE:0
DTSTAMP:20260426T025135Z
DTSTART:20250911T070000Z
DTEND:20250911T084000Z
SUMMARY:Тепловые двигатели
LOCATION:Мех. к. Учебная лаб. ДВС №84
END:VEVENT
BEGIN:VEVENT
UID:v0x5@192.168.245.71:3006
SEQUENCE:0
DTSTAMP:20260426T025135Z
DTSTART:20250911T090000Z
DTEND:20250911T104000Z
SUMMARY:Гидропневмопривод
LOCATION:3 к. 100
END:VEVENT
BEGIN:VEVENT
UID:169r@192.168.245.71:3006
SEQUENCE:0
DTSTAMP:20260426T025135Z
DTSTART:20250911T110000Z
DTEND:20250911T124000Z
SUMMARY:Теория систем автоматического управления
LOCATION:ТВН 305ВШТ
END:VEVENT
BEGIN:VEVENT
UID:34ky@192.168.245.71:3006
SEQUENCE:0
DTSTAMP:20260426T025135Z
DTSTART:20250912T070000Z
DTEND:20250912T084000Z
SUMMARY:Технология производства НТТМ
LOCATION:ТВН 302ВШТ
END:VEVENT
BEGIN:VEVENT
UID:cpvb@192.168.245.71:3006
SEQUENCE:0
DTSTAMP:20260426T025135Z
DTSTART:20250912T090000Z
DTEND:20250912T104000Z
SUMMARY:Технология производства НТТМ
LOCATION:ТВН 302ВШТ
END:VEVENT
BEGIN:VEVENT
UID:ms7v@192.168.245.71:3006
SEQUENCE:0
DTSTAMP:20260426T025135Z
DTSTART:20250912T110000Z
DTEND:20250912T124000Z
SUMMARY:Теория подрессоривания
LOCATION:ТВН 303ВШТ
END:VEVENT
END:VCALENDAR