BEGIN:VCALENDAR
VERSION:2.0
PRODID:-//spbstu.ru//ical//RU
NAME:Расписание группы 3352302/20101
X-WR-CALNAME:Расписание группы 3352302/20101
TIMEZONE-ID:Europe/Moscow
X-WR-TIMEZONE:Europe/Moscow
BEGIN:VEVENT
UID:71i1@192.168.245.71:3006
SEQUENCE:0
DTSTAMP:20260421T081524Z
DTSTART:20260428T070000Z
DTEND:20260428T084000Z
SUMMARY:Курсовое проектирование двигателя внутреннего сгорания
LOCATION:Мех. к. Уч. кл. ДВС №82
END:VEVENT
BEGIN:VEVENT
UID:ijyp@192.168.245.71:3006
SEQUENCE:0
DTSTAMP:20260421T081524Z
DTSTART:20260428T110000Z
DTEND:20260428T124000Z
SUMMARY:Теория систем автоматического управления
LOCATION:ТВН 304ВШТ
END:VEVENT
BEGIN:VEVENT
UID:vylw@192.168.245.71:3006
SEQUENCE:0
DTSTAMP:20260421T081524Z
DTSTART:20260429T070000Z
DTEND:20260429T084000Z
SUMMARY:Теория движения НТТМ
LOCATION:ТВН 304ВШТ
END:VEVENT
BEGIN:VEVENT
UID:y9on@192.168.245.71:3006
SEQUENCE:0
DTSTAMP:20260421T081524Z
DTSTART:20260429T090000Z
DTEND:20260429T104000Z
SUMMARY:Курсовое проектирование трансмиссии гусеничной машины
LOCATION:ТВН 302ВШТ
END:VEVENT
BEGIN:VEVENT
UID:e7ll@192.168.245.71:3006
SEQUENCE:0
DTSTAMP:20260421T081524Z
DTSTART:20260429T110000Z
DTEND:20260429T124000Z
SUMMARY:Курсовое проектирование трансмиссии гусеничной машины
LOCATION:ТВН 302ВШТ
END:VEVENT
BEGIN:VEVENT
UID:fs9u@192.168.245.71:3006
SEQUENCE:0
DTSTAMP:20260421T081524Z
DTSTART:20260430T070000Z
DTEND:20260430T084000Z
SUMMARY:Курсовое проектирование двигателя внутреннего сгорания
LOCATION:Мех. к. Уч. кл. ДВС №82
END:VEVENT
BEGIN:VEVENT
UID:e4ey@192.168.245.71:3006
SEQUENCE:0
DTSTAMP:20260421T081524Z
DTSTART:20260430T090000Z
DTEND:20260430T104000Z
SUMMARY:Проектирование НТТМ
LOCATION:ТВН 304ВШТ
END:VEVENT
BEGIN:VEVENT
UID:ekh7@192.168.245.71:3006
SEQUENCE:0
DTSTAMP:20260421T081524Z
DTSTART:20260430T110000Z
DTEND:20260430T124000Z
SUMMARY:Проектирование НТТМ
LOCATION:ТВН 302ВШТ
END:VEVENT
END:VCALENDAR