BEGIN:VCALENDAR
VERSION:2.0
PRODID:-//spbstu.ru//ical//RU
NAME:Расписание группы в3331505/50001
X-WR-CALNAME:Расписание группы в3331505/50001
TIMEZONE-ID:Europe/Moscow
X-WR-TIMEZONE:Europe/Moscow
BEGIN:VEVENT
UID:n1lb@192.168.245.71:3006
SEQUENCE:0
DTSTAMP:20260425T203420Z
DTSTART:20250902T150000Z
DTEND:20250902T164000Z
SUMMARY:Основы цифровых технологий
LOCATION:ГЗ 327-2
END:VEVENT
BEGIN:VEVENT
UID:u3eb@192.168.245.71:3006
SEQUENCE:0
DTSTAMP:20260425T203420Z
DTSTART:20250902T170000Z
DTEND:20250902T184000Z
SUMMARY:Основы цифровых технологий
LOCATION:ГЗ 327-2
END:VEVENT
BEGIN:VEVENT
UID:jk0v@192.168.245.71:3006
SEQUENCE:0
DTSTAMP:20260425T203420Z
DTSTART:20250903T150000Z
DTEND:20250903T170000Z
SUMMARY:Высшая математика
LOCATION:1 к. 420
END:VEVENT
BEGIN:VEVENT
UID:n2tc@192.168.245.71:3006
SEQUENCE:0
DTSTAMP:20260425T203420Z
DTSTART:20250904T150000Z
DTEND:20250904T164000Z
SUMMARY:Физическая культура
LOCATION:DL Дистанционно
END:VEVENT
BEGIN:VEVENT
UID:3kie@192.168.245.71:3006
SEQUENCE:0
DTSTAMP:20260425T203420Z
DTSTART:20250905T150000Z
DTEND:20250905T170000Z
SUMMARY:Высшая математика
LOCATION:1 к. 420
END:VEVENT
BEGIN:VEVENT
UID:z52y@192.168.245.71:3006
SEQUENCE:0
DTSTAMP:20260425T203420Z
DTSTART:20250906T070000Z
DTEND:20250906T084000Z
SUMMARY:Иностранный язык: Базовый курс
LOCATION:1 к. 414
END:VEVENT
BEGIN:VEVENT
UID:y3ha@192.168.245.71:3006
SEQUENCE:0
DTSTAMP:20260425T203420Z
DTSTART:20250906T090000Z
DTEND:20250906T104000Z
SUMMARY:Химия
LOCATION:Хим. к. 58
END:VEVENT
BEGIN:VEVENT
UID:5b6m@192.168.245.71:3006
SEQUENCE:0
DTSTAMP:20260425T203420Z
DTSTART:20250906T110000Z
DTEND:20250906T124000Z
SUMMARY:Химия
LOCATION:Хим. к. 58
END:VEVENT
END:VCALENDAR