BEGIN:VCALENDAR
VERSION:2.0
PRODID:-//spbstu.ru//ical//RU
NAME:Расписание группы з3331504/40002
X-WR-CALNAME:Расписание группы з3331504/40002
TIMEZONE-ID:Europe/Moscow
X-WR-TIMEZONE:Europe/Moscow
BEGIN:VEVENT
UID:bp40@192.168.245.71:3006
SEQUENCE:0
DTSTAMP:20260424T202728Z
DTSTART:20251124T150000Z
DTEND:20251124T164000Z
SUMMARY:Цифровая культура
LOCATION:ГЗ 153
END:VEVENT
BEGIN:VEVENT
UID:arrj@192.168.245.71:3006
SEQUENCE:0
DTSTAMP:20260424T202728Z
DTSTART:20251124T170000Z
DTEND:20251124T184000Z
SUMMARY:Цифровая культура
LOCATION:ГЗ 153
END:VEVENT
BEGIN:VEVENT
UID:9o88@192.168.245.71:3006
SEQUENCE:0
DTSTAMP:20260424T202728Z
DTSTART:20251125T110000Z
DTEND:20251125T124000Z
SUMMARY:Цифровой практикум
LOCATION:1 к. кафедра Автоматы
END:VEVENT
BEGIN:VEVENT
UID:w4vf@192.168.245.71:3006
SEQUENCE:0
DTSTAMP:20260424T202728Z
DTSTART:20251125T130000Z
DTEND:20251125T140000Z
SUMMARY:Цифровой практикум
LOCATION:1 к. кафедра Автоматы
END:VEVENT
BEGIN:VEVENT
UID:9qao@192.168.245.71:3006
SEQUENCE:0
DTSTAMP:20260424T202728Z
DTSTART:20251125T140000Z
DTEND:20251125T144000Z
SUMMARY:Цифровой практикум
LOCATION:1 к. кафедра Автоматы
END:VEVENT
BEGIN:VEVENT
UID:20az@192.168.245.71:3006
SEQUENCE:0
DTSTAMP:20260424T202728Z
DTSTART:20251126T130000Z
DTEND:20251126T144000Z
SUMMARY:Теоретическая механика
LOCATION:ГЗ 305
END:VEVENT
BEGIN:VEVENT
UID:ge64@192.168.245.71:3006
SEQUENCE:0
DTSTAMP:20260424T202728Z
DTSTART:20251126T150000Z
DTEND:20251126T164000Z
SUMMARY:Программирование и алгоритмизация
LOCATION:ГЗ 153
END:VEVENT
BEGIN:VEVENT
UID:yeox@192.168.245.71:3006
SEQUENCE:0
DTSTAMP:20260424T202728Z
DTSTART:20251126T170000Z
DTEND:20251126T184000Z
SUMMARY:Программирование и алгоритмизация
LOCATION:ГЗ 153
END:VEVENT
BEGIN:VEVENT
UID:3fog@192.168.245.71:3006
SEQUENCE:0
DTSTAMP:20260424T202728Z
DTSTART:20251127T140000Z
DTEND:20251127T154000Z
SUMMARY:Гибкие навыки в развитии карьеры
LOCATION:1 к. 41
END:VEVENT
BEGIN:VEVENT
UID:140k@192.168.245.71:3006
SEQUENCE:0
DTSTAMP:20260424T202728Z
DTSTART:20251128T130000Z
DTEND:20251128T144000Z
SUMMARY:Иностранный язык: Базовый курс
LOCATION:1 к. 41
END:VEVENT
BEGIN:VEVENT
UID:353t@192.168.245.71:3006
SEQUENCE:0
DTSTAMP:20260424T202728Z
DTSTART:20251128T150000Z
DTEND:20251128T164000Z
SUMMARY:Введение в профессиональную деятельность
LOCATION:ГЗ 153
END:VEVENT
END:VCALENDAR