BEGIN:VCALENDAR
VERSION:2.0
PRODID:-//spbstu.ru//ical//RU
NAME:Расписание группы з3331505/10501
X-WR-CALNAME:Расписание группы з3331505/10501
TIMEZONE-ID:Europe/Moscow
X-WR-TIMEZONE:Europe/Moscow
BEGIN:VEVENT
UID:682i@192.168.245.71:3006
SEQUENCE:0
DTSTAMP:20260424T042851Z
DTSTART:20260127T090000Z
DTEND:20260127T104000Z
SUMMARY:Станочная технологическая оснастка
LOCATION:Мех. к. каф.Т М
END:VEVENT
BEGIN:VEVENT
UID:c8fq@192.168.245.71:3006
SEQUENCE:0
DTSTAMP:20260424T042851Z
DTSTART:20260127T110000Z
DTEND:20260127T124000Z
SUMMARY:Станочная технологическая оснастка
LOCATION:Мех. к. каф.Т М
END:VEVENT
BEGIN:VEVENT
UID:qfka@192.168.245.71:3006
SEQUENCE:0
DTSTAMP:20260424T042851Z
DTSTART:20260127T130000Z
DTEND:20260127T144000Z
SUMMARY:Станочная технологическая оснастка
LOCATION:Мех. к. каф.Т М
END:VEVENT
BEGIN:VEVENT
UID:jgzw@192.168.245.71:3006
SEQUENCE:0
DTSTAMP:20260424T042851Z
DTSTART:20260128T070000Z
DTEND:20260128T084000Z
SUMMARY:Режущие инструменты
LOCATION:Мех. к. каф.Т М
END:VEVENT
BEGIN:VEVENT
UID:o99q@192.168.245.71:3006
SEQUENCE:0
DTSTAMP:20260424T042851Z
DTSTART:20260128T090000Z
DTEND:20260128T104000Z
SUMMARY:Режущие инструменты
LOCATION:Мех. к. каф.Т М
END:VEVENT
BEGIN:VEVENT
UID:qedk@192.168.245.71:3006
SEQUENCE:0
DTSTAMP:20260424T042851Z
DTSTART:20260128T110000Z
DTEND:20260128T124000Z
SUMMARY:Режущие инструменты
LOCATION:Мех. к. каф.Т М
END:VEVENT
BEGIN:VEVENT
UID:wkbz@192.168.245.71:3006
SEQUENCE:0
DTSTAMP:20260424T042851Z
DTSTART:20260128T130000Z
DTEND:20260128T144000Z
SUMMARY:Режущие инструменты
LOCATION:Мех. к. каф.Т М
END:VEVENT
BEGIN:VEVENT
UID:fucx@192.168.245.71:3006
SEQUENCE:0
DTSTAMP:20260424T042851Z
DTSTART:20260128T150000Z
DTEND:20260128T164000Z
SUMMARY:Режущие инструменты
LOCATION:Мех. к. МНОЦ \"BaltTribo-Polytechnic\"
END:VEVENT
BEGIN:VEVENT
UID:t6zx@192.168.245.71:3006
SEQUENCE:0
DTSTAMP:20260424T042851Z
DTSTART:20260129T090000Z
DTEND:20260129T104000Z
SUMMARY:Станочная технологическая оснастка
LOCATION:DL Дистанционно
END:VEVENT
BEGIN:VEVENT
UID:htqs@192.168.245.71:3006
SEQUENCE:0
DTSTAMP:20260424T042851Z
DTSTART:20260130T070000Z
DTEND:20260130T084000Z
SUMMARY:Режущие инструменты
LOCATION:DL Дистанционно
END:VEVENT
BEGIN:VEVENT
UID:c79v@192.168.245.71:3006
SEQUENCE:0
DTSTAMP:20260424T042851Z
DTSTART:20260130T090000Z
DTEND:20260130T104000Z
SUMMARY:Режущие инструменты
LOCATION:DL Дистанционно
END:VEVENT
BEGIN:VEVENT
UID:nhe3@192.168.245.71:3006
SEQUENCE:0
DTSTAMP:20260424T042851Z
DTSTART:20260131T070000Z
DTEND:20260131T084000Z
SUMMARY:Технология машиностроения
LOCATION:Мех. к. каф.Т М
END:VEVENT
BEGIN:VEVENT
UID:j9uo@192.168.245.71:3006
SEQUENCE:0
DTSTAMP:20260424T042851Z
DTSTART:20260131T090000Z
DTEND:20260131T104000Z
SUMMARY:Технология машиностроения
LOCATION:Мех. к. каф.Т М
END:VEVENT
END:VCALENDAR