BEGIN:VCALENDAR
VERSION:2.0
PRODID:-//spbstu.ru//ical//RU
NAME:Расписание
X-WR-CALNAME:Расписание
TIMEZONE-ID:Europe/Moscow
X-WR-TIMEZONE:Europe/Moscow
BEGIN:VEVENT
UID:nbwn@192.168.245.71:3006
SEQUENCE:0
DTSTAMP:20260425T203110Z
DTSTART:20250929T070000Z
DTEND:20250929T084000Z
SUMMARY:Научно-исследовательская работа (получение первичных навыков научн
 о-исследовательской работы)
LOCATION:2 к. каф.
END:VEVENT
BEGIN:VEVENT
UID:b5jl@192.168.245.71:3006
SEQUENCE:0
DTSTAMP:20260425T203110Z
DTSTART:20250929T070000Z
DTEND:20250929T110000Z
SUMMARY:Научно-исследовательская работа
LOCATION:Не опр. Нет
END:VEVENT
BEGIN:VEVENT
UID:p5xl@192.168.245.71:3006
SEQUENCE:0
DTSTAMP:20260425T203110Z
DTSTART:20250929T070000Z
DTEND:20250929T110000Z
SUMMARY:Научно-исследовательская работа
LOCATION:Не опр. Нет
END:VEVENT
BEGIN:VEVENT
UID:aaii@192.168.245.71:3006
SEQUENCE:0
DTSTAMP:20260425T203110Z
DTSTART:20250929T070000Z
DTEND:20250929T120000Z
SUMMARY:Научно-исследовательская работа
LOCATION:Не опр. Нет
END:VEVENT
BEGIN:VEVENT
UID:8l8b@192.168.245.71:3006
SEQUENCE:0
DTSTAMP:20260425T203110Z
DTSTART:20250930T070000Z
DTEND:20250930T084000Z
SUMMARY:Научно-исследовательская работа (получение первичных навыков научн
 о-исследовательской работы)
LOCATION:2 к. каф.
END:VEVENT
BEGIN:VEVENT
UID:1qle@192.168.245.71:3006
SEQUENCE:0
DTSTAMP:20260425T203110Z
DTSTART:20250930T070000Z
DTEND:20250930T084000Z
SUMMARY:Научно-исследовательская работа (получение первичных навыков научн
 о-исследовательской работы)
LOCATION:2 к. каф.
END:VEVENT
BEGIN:VEVENT
UID:jl24@192.168.245.71:3006
SEQUENCE:0
DTSTAMP:20260425T203110Z
DTSTART:20251001T070000Z
DTEND:20251001T084000Z
SUMMARY:Проектная деятельность на предприятиях нефтегазовой отрасли
LOCATION:2 к. каф.
END:VEVENT
BEGIN:VEVENT
UID:x4or@192.168.245.71:3006
SEQUENCE:0
DTSTAMP:20260425T203110Z
DTSTART:20251001T070000Z
DTEND:20251001T084000Z
SUMMARY:НИР рассредоточенная
LOCATION:2 к. каф.
END:VEVENT
BEGIN:VEVENT
UID:aozh@192.168.245.71:3006
SEQUENCE:0
DTSTAMP:20260425T203110Z
DTSTART:20251002T070000Z
DTEND:20251002T084000Z
SUMMARY:НИР рассредоточенная
LOCATION:2 к. каф.
END:VEVENT
BEGIN:VEVENT
UID:4c7j@192.168.245.71:3006
SEQUENCE:0
DTSTAMP:20260425T203110Z
DTSTART:20251002T070000Z
DTEND:20251002T084000Z
SUMMARY:Технологическая (проектно-технологическая) практика
LOCATION:2 к. каф.
END:VEVENT
BEGIN:VEVENT
UID:ig4d@192.168.245.71:3006
SEQUENCE:0
DTSTAMP:20260425T203110Z
DTSTART:20251002T070000Z
DTEND:20251002T084000Z
SUMMARY:НИР рассредоточенная
LOCATION:2 к. каф.
END:VEVENT
BEGIN:VEVENT
UID:rwgl@192.168.245.71:3006
SEQUENCE:0
DTSTAMP:20260425T203110Z
DTSTART:20251002T070000Z
DTEND:20251002T084000Z
SUMMARY:НИР рассредоточенная
LOCATION:2 к. каф.
END:VEVENT
BEGIN:VEVENT
UID:fxvw@192.168.245.71:3006
SEQUENCE:0
DTSTAMP:20260425T203110Z
DTSTART:20251002T070000Z
DTEND:20251002T140000Z
SUMMARY:Научно-исследовательская работа
LOCATION:Не опр. Нет
END:VEVENT
BEGIN:VEVENT
UID:omv2@192.168.245.71:3006
SEQUENCE:0
DTSTAMP:20260425T203110Z
DTSTART:20251002T070000Z
DTEND:20251002T110000Z
SUMMARY:Научно-исследовательская работа
LOCATION:Не опр. Нет
END:VEVENT
BEGIN:VEVENT
UID:9ab6@192.168.245.71:3006
SEQUENCE:0
DTSTAMP:20260425T203110Z
DTSTART:20251002T070000Z
DTEND:20251002T110000Z
SUMMARY:Научно-исследовательская работа
LOCATION:Не опр. Нет
END:VEVENT
BEGIN:VEVENT
UID:phm4@192.168.245.71:3006
SEQUENCE:0
DTSTAMP:20260425T203110Z
DTSTART:20251003T070000Z
DTEND:20251003T084000Z
SUMMARY:НИР рассредоточенная
LOCATION:2 к. каф.
END:VEVENT
BEGIN:VEVENT
UID:rzmx@192.168.245.71:3006
SEQUENCE:0
DTSTAMP:20260425T203110Z
DTSTART:20251003T070000Z
DTEND:20251003T140000Z
SUMMARY:Технологическая практика
LOCATION:Не опр. База практик
END:VEVENT
END:VCALENDAR