BEGIN:VCALENDAR
VERSION:2.0
PRODID:-//spbstu.ru//ical//RU
NAME:Расписание
X-WR-CALNAME:Расписание
TIMEZONE-ID:Europe/Moscow
X-WR-TIMEZONE:Europe/Moscow
BEGIN:VEVENT
UID:ed59@192.168.245.71:3006
SEQUENCE:0
DTSTAMP:20260424T031336Z
DTSTART:20260121T070000Z
DTEND:20260121T084000Z
SUMMARY:Научно-исследовательская работа
LOCATION:Не опр. База практик
END:VEVENT
BEGIN:VEVENT
UID:kna7@192.168.245.71:3006
SEQUENCE:0
DTSTAMP:20260424T031336Z
DTSTART:20260122T070000Z
DTEND:20260122T084000Z
SUMMARY:Научно-исследовательская работа
LOCATION:Не опр. База практик
END:VEVENT
BEGIN:VEVENT
UID:zg0x@192.168.245.71:3006
SEQUENCE:0
DTSTAMP:20260424T031336Z
DTSTART:20260123T070000Z
DTEND:20260123T084000Z
SUMMARY:Научно-исследовательская работа
LOCATION:Не опр. База практик
END:VEVENT
END:VCALENDAR