BEGIN:VCALENDAR
VERSION:2.0
PRODID:-//spbstu.ru//ical//RU
NAME:Расписание
X-WR-CALNAME:Расписание
TIMEZONE-ID:Europe/Moscow
X-WR-TIMEZONE:Europe/Moscow
BEGIN:VEVENT
UID:508j@192.168.245.71:3006
SEQUENCE:0
DTSTAMP:20260422T235531Z
DTSTART:20260216T070000Z
DTEND:20260216T103000Z
SUMMARY:Лабораторные исследования в профессиональной области
LOCATION:Не опр. Нет
END:VEVENT
BEGIN:VEVENT
UID:g6m6@192.168.245.71:3006
SEQUENCE:0
DTSTAMP:20260422T235531Z
DTSTART:20260216T070000Z
DTEND:20260216T103000Z
SUMMARY:Лабораторные исследования в профессиональной области
LOCATION:Не опр. Нет
END:VEVENT
BEGIN:VEVENT
UID:guwp@192.168.245.71:3006
SEQUENCE:0
DTSTAMP:20260422T235531Z
DTSTART:20260216T070000Z
DTEND:20260216T103000Z
SUMMARY:Лабораторные исследования в профессиональной области
LOCATION:Не опр. Нет
END:VEVENT
BEGIN:VEVENT
UID:899x@192.168.245.71:3006
SEQUENCE:0
DTSTAMP:20260422T235531Z
DTSTART:20260216T070000Z
DTEND:20260216T084000Z
SUMMARY:Проектно-технологическая практика
LOCATION:Не опр. База практик
END:VEVENT
BEGIN:VEVENT
UID:esay@192.168.245.71:3006
SEQUENCE:0
DTSTAMP:20260422T235531Z
DTSTART:20260216T070000Z
DTEND:20260216T084000Z
SUMMARY:Проектно-технологическая практика
LOCATION:Не опр. База практик
END:VEVENT
BEGIN:VEVENT
UID:5ym4@192.168.245.71:3006
SEQUENCE:0
DTSTAMP:20260422T235531Z
DTSTART:20260216T070000Z
DTEND:20260216T084000Z
SUMMARY:Научно-исследовательская работа (концентрированная)
LOCATION:Не опр. Нет
END:VEVENT
BEGIN:VEVENT
UID:wsm4@192.168.245.71:3006
SEQUENCE:0
DTSTAMP:20260422T235531Z
DTSTART:20260216T070000Z
DTEND:20260216T084000Z
SUMMARY:Научно-исследовательская работа (концентрированная)
LOCATION:Не опр. Нет
END:VEVENT
BEGIN:VEVENT
UID:3x8r@192.168.245.71:3006
SEQUENCE:0
DTSTAMP:20260422T235531Z
DTSTART:20260216T070000Z
DTEND:20260216T084000Z
SUMMARY:Научно-исследовательская работа (концентрированная)
LOCATION:Не опр. Нет
END:VEVENT
BEGIN:VEVENT
UID:m3os@192.168.245.71:3006
SEQUENCE:0
DTSTAMP:20260422T235531Z
DTSTART:20260216T070000Z
DTEND:20260216T084000Z
SUMMARY:Научно-исследовательская работа (концентрированная)
LOCATION:Не опр. Нет
END:VEVENT
BEGIN:VEVENT
UID:sbu8@192.168.245.71:3006
SEQUENCE:0
DTSTAMP:20260422T235531Z
DTSTART:20260216T070000Z
DTEND:20260216T084000Z
SUMMARY:Научно-исследовательская работа (концентрированная)
LOCATION:Не опр. Нет
END:VEVENT
BEGIN:VEVENT
UID:e9b9@192.168.245.71:3006
SEQUENCE:0
DTSTAMP:20260422T235531Z
DTSTART:20260216T070000Z
DTEND:20260216T130000Z
SUMMARY:Преддипломная практика
LOCATION:Не опр. Нет
END:VEVENT
BEGIN:VEVENT
UID:neld@192.168.245.71:3006
SEQUENCE:0
DTSTAMP:20260422T235531Z
DTSTART:20260216T070000Z
DTEND:20260216T084000Z
SUMMARY:Научно-исследовательская работа
LOCATION:Не опр. База практик
END:VEVENT
BEGIN:VEVENT
UID:8jcf@192.168.245.71:3006
SEQUENCE:0
DTSTAMP:20260422T235531Z
DTSTART:20260216T090000Z
DTEND:20260216T104000Z
SUMMARY:Научно-исследовательская работа
LOCATION:Не опр. База практик
END:VEVENT
BEGIN:VEVENT
UID:ds31@192.168.245.71:3006
SEQUENCE:0
DTSTAMP:20260422T235531Z
DTSTART:20260217T070000Z
DTEND:20260217T084000Z
SUMMARY:Проектно-технологическая практика
LOCATION:Не опр. База практик
END:VEVENT
BEGIN:VEVENT
UID:d1qt@192.168.245.71:3006
SEQUENCE:0
DTSTAMP:20260422T235531Z
DTSTART:20260217T070000Z
DTEND:20260217T084000Z
SUMMARY:Проектно-технологическая практика
LOCATION:Не опр. База практик
END:VEVENT
BEGIN:VEVENT
UID:adx7@192.168.245.71:3006
SEQUENCE:0
DTSTAMP:20260422T235531Z
DTSTART:20260217T070000Z
DTEND:20260217T084000Z
SUMMARY:Научно-исследовательская работа (концентрированная)
LOCATION:Не опр. Нет
END:VEVENT
BEGIN:VEVENT
UID:3ot7@192.168.245.71:3006
SEQUENCE:0
DTSTAMP:20260422T235531Z
DTSTART:20260217T070000Z
DTEND:20260217T084000Z
SUMMARY:Научно-исследовательская работа (концентрированная)
LOCATION:Не опр. Нет
END:VEVENT
BEGIN:VEVENT
UID:drvt@192.168.245.71:3006
SEQUENCE:0
DTSTAMP:20260422T235531Z
DTSTART:20260217T070000Z
DTEND:20260217T084000Z
SUMMARY:Научно-исследовательская работа (концентрированная)
LOCATION:Не опр. Нет
END:VEVENT
BEGIN:VEVENT
UID:jbjd@192.168.245.71:3006
SEQUENCE:0
DTSTAMP:20260422T235531Z
DTSTART:20260217T070000Z
DTEND:20260217T084000Z
SUMMARY:Научно-исследовательская работа (концентрированная)
LOCATION:Не опр. Нет
END:VEVENT
BEGIN:VEVENT
UID:mc15@192.168.245.71:3006
SEQUENCE:0
DTSTAMP:20260422T235531Z
DTSTART:20260217T070000Z
DTEND:20260217T084000Z
SUMMARY:Научно-исследовательская работа (концентрированная)
LOCATION:Не опр. Нет
END:VEVENT
BEGIN:VEVENT
UID:kii1@192.168.245.71:3006
SEQUENCE:0
DTSTAMP:20260422T235531Z
DTSTART:20260217T070000Z
DTEND:20260217T140000Z
SUMMARY:Учебная практика/Научно-исследовательская работа
LOCATION:Не опр. Нет
END:VEVENT
BEGIN:VEVENT
UID:kjx5@192.168.245.71:3006
SEQUENCE:0
DTSTAMP:20260422T235531Z
DTSTART:20260217T070000Z
DTEND:20260217T103000Z
SUMMARY:Лабораторные исследования в профессиональной области
LOCATION:Не опр. Нет
END:VEVENT
BEGIN:VEVENT
UID:mr98@192.168.245.71:3006
SEQUENCE:0
DTSTAMP:20260422T235531Z
DTSTART:20260217T070000Z
DTEND:20260217T103000Z
SUMMARY:Лабораторные исследования в профессиональной области
LOCATION:Не опр. Нет
END:VEVENT
BEGIN:VEVENT
UID:9urt@192.168.245.71:3006
SEQUENCE:0
DTSTAMP:20260422T235531Z
DTSTART:20260217T070000Z
DTEND:20260217T103000Z
SUMMARY:Лабораторные исследования в профессиональной области
LOCATION:Не опр. Нет
END:VEVENT
BEGIN:VEVENT
UID:9xxd@192.168.245.71:3006
SEQUENCE:0
DTSTAMP:20260422T235531Z
DTSTART:20260217T070000Z
DTEND:20260217T103000Z
SUMMARY:Лабораторные исследования в профессиональной области
LOCATION:Не опр. Нет
END:VEVENT
BEGIN:VEVENT
UID:ibz7@192.168.245.71:3006
SEQUENCE:0
DTSTAMP:20260422T235531Z
DTSTART:20260217T070000Z
DTEND:20260217T093000Z
SUMMARY:Лабораторные исследования в профессиональной области
LOCATION:Не опр. Нет
END:VEVENT
BEGIN:VEVENT
UID:9jzz@192.168.245.71:3006
SEQUENCE:0
DTSTAMP:20260422T235531Z
DTSTART:20260217T070000Z
DTEND:20260217T093000Z
SUMMARY:Лабораторные исследования в профессиональной области
LOCATION:Не опр. Нет
END:VEVENT
BEGIN:VEVENT
UID:a6n6@192.168.245.71:3006
SEQUENCE:0
DTSTAMP:20260422T235531Z
DTSTART:20260218T070000Z
DTEND:20260218T084000Z
SUMMARY:Проектно-технологическая практика
LOCATION:Не опр. База практик
END:VEVENT
BEGIN:VEVENT
UID:guu6@192.168.245.71:3006
SEQUENCE:0
DTSTAMP:20260422T235531Z
DTSTART:20260218T070000Z
DTEND:20260218T084000Z
SUMMARY:Научно-исследовательская работа (концентрированная)
LOCATION:Не опр. Нет
END:VEVENT
BEGIN:VEVENT
UID:2fml@192.168.245.71:3006
SEQUENCE:0
DTSTAMP:20260422T235531Z
DTSTART:20260218T070000Z
DTEND:20260218T084000Z
SUMMARY:Научно-исследовательская работа (концентрированная)
LOCATION:Не опр. Нет
END:VEVENT
BEGIN:VEVENT
UID:lkdb@192.168.245.71:3006
SEQUENCE:0
DTSTAMP:20260422T235531Z
DTSTART:20260218T070000Z
DTEND:20260218T084000Z
SUMMARY:Научно-исследовательская работа (концентрированная)
LOCATION:Не опр. Нет
END:VEVENT
BEGIN:VEVENT
UID:d4d4@192.168.245.71:3006
SEQUENCE:0
DTSTAMP:20260422T235531Z
DTSTART:20260218T070000Z
DTEND:20260218T084000Z
SUMMARY:Научно-исследовательская работа (концентрированная)
LOCATION:Не опр. Нет
END:VEVENT
BEGIN:VEVENT
UID:5j0v@192.168.245.71:3006
SEQUENCE:0
DTSTAMP:20260422T235531Z
DTSTART:20260218T070000Z
DTEND:20260218T084000Z
SUMMARY:Научно-исследовательская работа (концентрированная)
LOCATION:Не опр. Нет
END:VEVENT
BEGIN:VEVENT
UID:6nlx@192.168.245.71:3006
SEQUENCE:0
DTSTAMP:20260422T235531Z
DTSTART:20260218T070000Z
DTEND:20260218T084000Z
SUMMARY:Проектная деятельность на предприятиях нефтегазовой отрасли
LOCATION:2 к. каф.
END:VEVENT
BEGIN:VEVENT
UID:9tb8@192.168.245.71:3006
SEQUENCE:0
DTSTAMP:20260422T235531Z
DTSTART:20260218T110000Z
DTEND:20260218T124000Z
SUMMARY:Проектно-технологическая практика
LOCATION:Не опр. База практик
END:VEVENT
BEGIN:VEVENT
UID:inyy@192.168.245.71:3006
SEQUENCE:0
DTSTAMP:20260422T235531Z
DTSTART:20260219T070000Z
DTEND:20260219T084000Z
SUMMARY:Проектно-технологическая практика
LOCATION:Не опр. База практик
END:VEVENT
BEGIN:VEVENT
UID:idmq@192.168.245.71:3006
SEQUENCE:0
DTSTAMP:20260422T235531Z
DTSTART:20260219T070000Z
DTEND:20260219T084000Z
SUMMARY:Проектно-технологическая практика
LOCATION:Не опр. База практик
END:VEVENT
BEGIN:VEVENT
UID:r5fs@192.168.245.71:3006
SEQUENCE:0
DTSTAMP:20260422T235531Z
DTSTART:20260219T070000Z
DTEND:20260219T084000Z
SUMMARY:Научно-исследовательская работа (концентрированная)
LOCATION:Не опр. Нет
END:VEVENT
BEGIN:VEVENT
UID:khar@192.168.245.71:3006
SEQUENCE:0
DTSTAMP:20260422T235531Z
DTSTART:20260219T070000Z
DTEND:20260219T084000Z
SUMMARY:Научно-исследовательская работа (концентрированная)
LOCATION:Не опр. Нет
END:VEVENT
BEGIN:VEVENT
UID:lll4@192.168.245.71:3006
SEQUENCE:0
DTSTAMP:20260422T235531Z
DTSTART:20260219T070000Z
DTEND:20260219T084000Z
SUMMARY:Научно-исследовательская работа (концентрированная)
LOCATION:Не опр. Нет
END:VEVENT
BEGIN:VEVENT
UID:ig7a@192.168.245.71:3006
SEQUENCE:0
DTSTAMP:20260422T235531Z
DTSTART:20260219T070000Z
DTEND:20260219T084000Z
SUMMARY:Научно-исследовательская работа (концентрированная)
LOCATION:Не опр. Нет
END:VEVENT
BEGIN:VEVENT
UID:0v4o@192.168.245.71:3006
SEQUENCE:0
DTSTAMP:20260422T235531Z
DTSTART:20260219T070000Z
DTEND:20260219T084000Z
SUMMARY:Научно-исследовательская работа (концентрированная)
LOCATION:Не опр. Нет
END:VEVENT
BEGIN:VEVENT
UID:0f37@192.168.245.71:3006
SEQUENCE:0
DTSTAMP:20260422T235531Z
DTSTART:20260219T070000Z
DTEND:20260219T103000Z
SUMMARY:Преддипломная практика
LOCATION:Не опр. Нет
END:VEVENT
BEGIN:VEVENT
UID:qz3d@192.168.245.71:3006
SEQUENCE:0
DTSTAMP:20260422T235531Z
DTSTART:20260219T090000Z
DTEND:20260219T183000Z
SUMMARY:Научно-исследовательская работа
LOCATION:DL Дистанционно
END:VEVENT
BEGIN:VEVENT
UID:xdu3@192.168.245.71:3006
SEQUENCE:0
DTSTAMP:20260422T235531Z
DTSTART:20260220T050000Z
DTEND:20260220T140000Z
SUMMARY:Научно-исследовательская работа
LOCATION:DL Дистанционно
END:VEVENT
BEGIN:VEVENT
UID:g6uu@192.168.245.71:3006
SEQUENCE:0
DTSTAMP:20260422T235531Z
DTSTART:20260220T050000Z
DTEND:20260220T140000Z
SUMMARY:Научно-исследовательская работа
LOCATION:DL Дистанционно
END:VEVENT
BEGIN:VEVENT
UID:1811@192.168.245.71:3006
SEQUENCE:0
DTSTAMP:20260422T235531Z
DTSTART:20260220T070000Z
DTEND:20260220T140000Z
SUMMARY:Технологическая практика
LOCATION:Не опр. Нет
END:VEVENT
BEGIN:VEVENT
UID:scc7@192.168.245.71:3006
SEQUENCE:0
DTSTAMP:20260422T235531Z
DTSTART:20260220T070000Z
DTEND:20260220T140000Z
SUMMARY:Технологическая практика
LOCATION:Не опр. Нет
END:VEVENT
BEGIN:VEVENT
UID:7dmt@192.168.245.71:3006
SEQUENCE:0
DTSTAMP:20260422T235531Z
DTSTART:20260220T070000Z
DTEND:20260220T084000Z
SUMMARY:Проектно-технологическая практика
LOCATION:Не опр. База практик
END:VEVENT
BEGIN:VEVENT
UID:dqfk@192.168.245.71:3006
SEQUENCE:0
DTSTAMP:20260422T235531Z
DTSTART:20260220T070000Z
DTEND:20260220T084000Z
SUMMARY:Проектно-технологическая практика
LOCATION:Не опр. База практик
END:VEVENT
BEGIN:VEVENT
UID:7llp@192.168.245.71:3006
SEQUENCE:0
DTSTAMP:20260422T235531Z
DTSTART:20260220T070000Z
DTEND:20260220T084000Z
SUMMARY:Научно-исследовательская работа (концентрированная)
LOCATION:Не опр. Нет
END:VEVENT
BEGIN:VEVENT
UID:mu5k@192.168.245.71:3006
SEQUENCE:0
DTSTAMP:20260422T235531Z
DTSTART:20260220T070000Z
DTEND:20260220T084000Z
SUMMARY:Научно-исследовательская работа (концентрированная)
LOCATION:Не опр. Нет
END:VEVENT
BEGIN:VEVENT
UID:vqp8@192.168.245.71:3006
SEQUENCE:0
DTSTAMP:20260422T235531Z
DTSTART:20260220T070000Z
DTEND:20260220T084000Z
SUMMARY:Научно-исследовательская работа (концентрированная)
LOCATION:Не опр. Нет
END:VEVENT
BEGIN:VEVENT
UID:gee0@192.168.245.71:3006
SEQUENCE:0
DTSTAMP:20260422T235531Z
DTSTART:20260220T070000Z
DTEND:20260220T084000Z
SUMMARY:Научно-исследовательская работа (концентрированная)
LOCATION:Не опр. Нет
END:VEVENT
BEGIN:VEVENT
UID:9425@192.168.245.71:3006
SEQUENCE:0
DTSTAMP:20260422T235531Z
DTSTART:20260220T070000Z
DTEND:20260220T084000Z
SUMMARY:Научно-исследовательская работа (концентрированная)
LOCATION:Не опр. Нет
END:VEVENT
BEGIN:VEVENT
UID:jajj@192.168.245.71:3006
SEQUENCE:0
DTSTAMP:20260422T235531Z
DTSTART:20260221T070000Z
DTEND:20260221T084000Z
SUMMARY:Проектно-технологическая практика
LOCATION:Не опр. База практик
END:VEVENT
BEGIN:VEVENT
UID:n5gk@192.168.245.71:3006
SEQUENCE:0
DTSTAMP:20260422T235531Z
DTSTART:20260221T070000Z
DTEND:20260221T084000Z
SUMMARY:Проектно-технологическая практика
LOCATION:Не опр. База практик
END:VEVENT
BEGIN:VEVENT
UID:gjir@192.168.245.71:3006
SEQUENCE:0
DTSTAMP:20260422T235531Z
DTSTART:20260221T070000Z
DTEND:20260221T084000Z
SUMMARY:Научно-исследовательская работа (концентрированная)
LOCATION:Не опр. Нет
END:VEVENT
BEGIN:VEVENT
UID:oibi@192.168.245.71:3006
SEQUENCE:0
DTSTAMP:20260422T235531Z
DTSTART:20260221T070000Z
DTEND:20260221T084000Z
SUMMARY:Научно-исследовательская работа (концентрированная)
LOCATION:Не опр. Нет
END:VEVENT
BEGIN:VEVENT
UID:etvp@192.168.245.71:3006
SEQUENCE:0
DTSTAMP:20260422T235531Z
DTSTART:20260221T070000Z
DTEND:20260221T084000Z
SUMMARY:Научно-исследовательская работа (концентрированная)
LOCATION:Не опр. Нет
END:VEVENT
BEGIN:VEVENT
UID:li6w@192.168.245.71:3006
SEQUENCE:0
DTSTAMP:20260422T235531Z
DTSTART:20260221T070000Z
DTEND:20260221T084000Z
SUMMARY:Научно-исследовательская работа (концентрированная)
LOCATION:Не опр. Нет
END:VEVENT
BEGIN:VEVENT
UID:sfnj@192.168.245.71:3006
SEQUENCE:0
DTSTAMP:20260422T235531Z
DTSTART:20260221T070000Z
DTEND:20260221T084000Z
SUMMARY:Научно-исследовательская работа (концентрированная)
LOCATION:Не опр. Нет
END:VEVENT
BEGIN:VEVENT
UID:7cz1@192.168.245.71:3006
SEQUENCE:0
DTSTAMP:20260422T235531Z
DTSTART:20260221T070000Z
DTEND:20260221T130000Z
SUMMARY:Преддипломная практика
LOCATION:Не опр. Нет
END:VEVENT
BEGIN:VEVENT
UID:6imt@192.168.245.71:3006
SEQUENCE:0
DTSTAMP:20260422T235531Z
DTSTART:20260221T070000Z
DTEND:20260221T103000Z
SUMMARY:Преддипломная практика
LOCATION:Не опр. Нет
END:VEVENT
BEGIN:VEVENT
UID:0u26@192.168.245.71:3006
SEQUENCE:0
DTSTAMP:20260422T235531Z
DTSTART:20260221T090000Z
DTEND:20260221T183000Z
SUMMARY:Научно-исследовательская работа
LOCATION:DL Дистанционно
END:VEVENT
END:VCALENDAR