BEGIN:VCALENDAR
VERSION:2.0
PRODID:-//spbstu.ru//ical//RU
NAME:Расписание
X-WR-CALNAME:Расписание
TIMEZONE-ID:Europe/Moscow
X-WR-TIMEZONE:Europe/Moscow
BEGIN:VEVENT
UID:3g9w@192.168.245.71:3006
SEQUENCE:0
DTSTAMP:20260422T190906Z
DTSTART:20260302T060000Z
DTEND:20260302T150000Z
SUMMARY:Практика по профилю профессиональной деятельности
LOCATION:Не опр. База практик
END:VEVENT
BEGIN:VEVENT
UID:aey1@192.168.245.71:3006
SEQUENCE:0
DTSTAMP:20260422T190906Z
DTSTART:20260302T060000Z
DTEND:20260302T150000Z
SUMMARY:Практика по профилю профессиональной деятельности
LOCATION:Не опр. База практик
END:VEVENT
BEGIN:VEVENT
UID:iyz2@192.168.245.71:3006
SEQUENCE:0
DTSTAMP:20260422T190906Z
DTSTART:20260302T060000Z
DTEND:20260302T150000Z
SUMMARY:Практика по профилю профессиональной деятельности
LOCATION:Не опр. База практик
END:VEVENT
BEGIN:VEVENT
UID:jhfq@192.168.245.71:3006
SEQUENCE:0
DTSTAMP:20260422T190906Z
DTSTART:20260302T060000Z
DTEND:20260302T150000Z
SUMMARY:Практика по профилю профессиональной деятельности
LOCATION:Не опр. База практик
END:VEVENT
BEGIN:VEVENT
UID:11k9@192.168.245.71:3006
SEQUENCE:0
DTSTAMP:20260422T190906Z
DTSTART:20260302T060000Z
DTEND:20260302T150000Z
SUMMARY:Практика по профилю профессиональной деятельности
LOCATION:Не опр. База практик
END:VEVENT
BEGIN:VEVENT
UID:my3a@192.168.245.71:3006
SEQUENCE:0
DTSTAMP:20260422T190906Z
DTSTART:20260302T060000Z
DTEND:20260302T150000Z
SUMMARY:Практика по профилю профессиональной деятельности
LOCATION:Не опр. База практик
END:VEVENT
BEGIN:VEVENT
UID:bens@192.168.245.71:3006
SEQUENCE:0
DTSTAMP:20260422T190906Z
DTSTART:20260302T060000Z
DTEND:20260302T150000Z
SUMMARY:Практика по профилю профессиональной деятельности
LOCATION:Не опр. База практик
END:VEVENT
BEGIN:VEVENT
UID:8f25@192.168.245.71:3006
SEQUENCE:0
DTSTAMP:20260422T190906Z
DTSTART:20260302T060000Z
DTEND:20260302T150000Z
SUMMARY:Практика по профилю профессиональной деятельности
LOCATION:Не опр. База практик
END:VEVENT
BEGIN:VEVENT
UID:2asx@192.168.245.71:3006
SEQUENCE:0
DTSTAMP:20260422T190906Z
DTSTART:20260302T070000Z
DTEND:20260302T084000Z
SUMMARY:Научно-исследовательская работа
LOCATION:Не опр. База практик
END:VEVENT
BEGIN:VEVENT
UID:i0vx@192.168.245.71:3006
SEQUENCE:0
DTSTAMP:20260422T190906Z
DTSTART:20260302T070000Z
DTEND:20260302T084000Z
SUMMARY:Научно-исследовательская работа
LOCATION:Не опр. База практик
END:VEVENT
BEGIN:VEVENT
UID:saqd@192.168.245.71:3006
SEQUENCE:0
DTSTAMP:20260422T190906Z
DTSTART:20260302T070000Z
DTEND:20260302T084000Z
SUMMARY:Научно-исследовательская работа (концентрированная)
LOCATION:Не опр. Нет
END:VEVENT
BEGIN:VEVENT
UID:r0gl@192.168.245.71:3006
SEQUENCE:0
DTSTAMP:20260422T190906Z
DTSTART:20260302T070000Z
DTEND:20260302T084000Z
SUMMARY:Научно-исследовательская работа (концентрированная)
LOCATION:Не опр. Нет
END:VEVENT
BEGIN:VEVENT
UID:dr82@192.168.245.71:3006
SEQUENCE:0
DTSTAMP:20260422T190906Z
DTSTART:20260302T070000Z
DTEND:20260302T084000Z
SUMMARY:Научно-исследовательская работа (концентрированная)
LOCATION:Не опр. Нет
END:VEVENT
BEGIN:VEVENT
UID:ikwm@192.168.245.71:3006
SEQUENCE:0
DTSTAMP:20260422T190906Z
DTSTART:20260302T070000Z
DTEND:20260302T084000Z
SUMMARY:Научно-исследовательская работа (концентрированная)
LOCATION:Не опр. Нет
END:VEVENT
BEGIN:VEVENT
UID:bn2b@192.168.245.71:3006
SEQUENCE:0
DTSTAMP:20260422T190906Z
DTSTART:20260302T070000Z
DTEND:20260302T084000Z
SUMMARY:Научно-исследовательская работа (концентрированная)
LOCATION:Не опр. Нет
END:VEVENT
BEGIN:VEVENT
UID:p7ew@192.168.245.71:3006
SEQUENCE:0
DTSTAMP:20260422T190906Z
DTSTART:20260302T070000Z
DTEND:20260302T130000Z
SUMMARY:Преддипломная практика
LOCATION:Не опр. Нет
END:VEVENT
BEGIN:VEVENT
UID:7939@192.168.245.71:3006
SEQUENCE:0
DTSTAMP:20260422T190906Z
DTSTART:20260302T070000Z
DTEND:20260302T084000Z
SUMMARY:Научно-исследовательская работа
LOCATION:Не опр. База практик
END:VEVENT
BEGIN:VEVENT
UID:874t@192.168.245.71:3006
SEQUENCE:0
DTSTAMP:20260422T190906Z
DTSTART:20260302T070000Z
DTEND:20260302T103000Z
SUMMARY:Лабораторные исследования в профессиональной области
LOCATION:Не опр. Нет
END:VEVENT
BEGIN:VEVENT
UID:81gb@192.168.245.71:3006
SEQUENCE:0
DTSTAMP:20260422T190906Z
DTSTART:20260302T070000Z
DTEND:20260302T103000Z
SUMMARY:Лабораторные исследования в профессиональной области
LOCATION:Не опр. Нет
END:VEVENT
BEGIN:VEVENT
UID:7hv6@192.168.245.71:3006
SEQUENCE:0
DTSTAMP:20260422T190906Z
DTSTART:20260302T070000Z
DTEND:20260302T103000Z
SUMMARY:Лабораторные исследования в профессиональной области
LOCATION:Не опр. Нет
END:VEVENT
BEGIN:VEVENT
UID:w4s3@192.168.245.71:3006
SEQUENCE:0
DTSTAMP:20260422T190906Z
DTSTART:20260302T090000Z
DTEND:20260302T104000Z
SUMMARY:Научно-исследовательская работа
LOCATION:Не опр. База практик
END:VEVENT
BEGIN:VEVENT
UID:uxnn@192.168.245.71:3006
SEQUENCE:0
DTSTAMP:20260422T190906Z
DTSTART:20260303T060000Z
DTEND:20260303T150000Z
SUMMARY:Практика по профилю профессиональной деятельности
LOCATION:Не опр. База практик
END:VEVENT
BEGIN:VEVENT
UID:7phv@192.168.245.71:3006
SEQUENCE:0
DTSTAMP:20260422T190906Z
DTSTART:20260303T060000Z
DTEND:20260303T150000Z
SUMMARY:Практика по профилю профессиональной деятельности
LOCATION:Не опр. База практик
END:VEVENT
BEGIN:VEVENT
UID:p1w9@192.168.245.71:3006
SEQUENCE:0
DTSTAMP:20260422T190906Z
DTSTART:20260303T060000Z
DTEND:20260303T150000Z
SUMMARY:Практика по профилю профессиональной деятельности
LOCATION:Не опр. База практик
END:VEVENT
BEGIN:VEVENT
UID:3m0n@192.168.245.71:3006
SEQUENCE:0
DTSTAMP:20260422T190906Z
DTSTART:20260303T060000Z
DTEND:20260303T150000Z
SUMMARY:Практика по профилю профессиональной деятельности
LOCATION:Не опр. База практик
END:VEVENT
BEGIN:VEVENT
UID:6jxg@192.168.245.71:3006
SEQUENCE:0
DTSTAMP:20260422T190906Z
DTSTART:20260303T060000Z
DTEND:20260303T150000Z
SUMMARY:Практика по профилю профессиональной деятельности
LOCATION:Не опр. База практик
END:VEVENT
BEGIN:VEVENT
UID:e9x1@192.168.245.71:3006
SEQUENCE:0
DTSTAMP:20260422T190906Z
DTSTART:20260303T060000Z
DTEND:20260303T150000Z
SUMMARY:Практика по профилю профессиональной деятельности
LOCATION:Не опр. База практик
END:VEVENT
BEGIN:VEVENT
UID:ugp6@192.168.245.71:3006
SEQUENCE:0
DTSTAMP:20260422T190906Z
DTSTART:20260303T060000Z
DTEND:20260303T150000Z
SUMMARY:Практика по профилю профессиональной деятельности
LOCATION:Не опр. База практик
END:VEVENT
BEGIN:VEVENT
UID:uf1o@192.168.245.71:3006
SEQUENCE:0
DTSTAMP:20260422T190906Z
DTSTART:20260303T060000Z
DTEND:20260303T150000Z
SUMMARY:Практика по профилю профессиональной деятельности
LOCATION:Не опр. База практик
END:VEVENT
BEGIN:VEVENT
UID:tt15@192.168.245.71:3006
SEQUENCE:0
DTSTAMP:20260422T190906Z
DTSTART:20260303T070000Z
DTEND:20260303T084000Z
SUMMARY:Научно-исследовательская работа
LOCATION:Не опр. База практик
END:VEVENT
BEGIN:VEVENT
UID:7uan@192.168.245.71:3006
SEQUENCE:0
DTSTAMP:20260422T190906Z
DTSTART:20260303T070000Z
DTEND:20260303T084000Z
SUMMARY:Научно-исследовательская работа
LOCATION:Не опр. База практик
END:VEVENT
BEGIN:VEVENT
UID:fvzz@192.168.245.71:3006
SEQUENCE:0
DTSTAMP:20260422T190906Z
DTSTART:20260303T070000Z
DTEND:20260303T084000Z
SUMMARY:Научно-исследовательская работа (концентрированная)
LOCATION:Не опр. Нет
END:VEVENT
BEGIN:VEVENT
UID:rfcm@192.168.245.71:3006
SEQUENCE:0
DTSTAMP:20260422T190906Z
DTSTART:20260303T070000Z
DTEND:20260303T084000Z
SUMMARY:Научно-исследовательская работа (концентрированная)
LOCATION:Не опр. Нет
END:VEVENT
BEGIN:VEVENT
UID:8nih@192.168.245.71:3006
SEQUENCE:0
DTSTAMP:20260422T190906Z
DTSTART:20260303T070000Z
DTEND:20260303T084000Z
SUMMARY:Научно-исследовательская работа (концентрированная)
LOCATION:Не опр. Нет
END:VEVENT
BEGIN:VEVENT
UID:8uhf@192.168.245.71:3006
SEQUENCE:0
DTSTAMP:20260422T190906Z
DTSTART:20260303T070000Z
DTEND:20260303T084000Z
SUMMARY:Научно-исследовательская работа (концентрированная)
LOCATION:Не опр. Нет
END:VEVENT
BEGIN:VEVENT
UID:iwm0@192.168.245.71:3006
SEQUENCE:0
DTSTAMP:20260422T190906Z
DTSTART:20260303T070000Z
DTEND:20260303T084000Z
SUMMARY:Научно-исследовательская работа (концентрированная)
LOCATION:Не опр. Нет
END:VEVENT
BEGIN:VEVENT
UID:ckd9@192.168.245.71:3006
SEQUENCE:0
DTSTAMP:20260422T190906Z
DTSTART:20260303T070000Z
DTEND:20260303T140000Z
SUMMARY:Учебная практика/Научно-исследовательская работа
LOCATION:Не опр. Нет
END:VEVENT
BEGIN:VEVENT
UID:8ppe@192.168.245.71:3006
SEQUENCE:0
DTSTAMP:20260422T190906Z
DTSTART:20260303T070000Z
DTEND:20260303T103000Z
SUMMARY:Лабораторные исследования в профессиональной области
LOCATION:Не опр. Нет
END:VEVENT
BEGIN:VEVENT
UID:2vsv@192.168.245.71:3006
SEQUENCE:0
DTSTAMP:20260422T190906Z
DTSTART:20260303T070000Z
DTEND:20260303T103000Z
SUMMARY:Лабораторные исследования в профессиональной области
LOCATION:Не опр. Нет
END:VEVENT
BEGIN:VEVENT
UID:m3me@192.168.245.71:3006
SEQUENCE:0
DTSTAMP:20260422T190906Z
DTSTART:20260303T070000Z
DTEND:20260303T103000Z
SUMMARY:Лабораторные исследования в профессиональной области
LOCATION:Не опр. Нет
END:VEVENT
BEGIN:VEVENT
UID:nvzp@192.168.245.71:3006
SEQUENCE:0
DTSTAMP:20260422T190906Z
DTSTART:20260303T070000Z
DTEND:20260303T103000Z
SUMMARY:Лабораторные исследования в профессиональной области
LOCATION:Не опр. Нет
END:VEVENT
BEGIN:VEVENT
UID:dtpn@192.168.245.71:3006
SEQUENCE:0
DTSTAMP:20260422T190906Z
DTSTART:20260303T070000Z
DTEND:20260303T093000Z
SUMMARY:Лабораторные исследования в профессиональной области
LOCATION:Не опр. Нет
END:VEVENT
BEGIN:VEVENT
UID:mgd2@192.168.245.71:3006
SEQUENCE:0
DTSTAMP:20260422T190906Z
DTSTART:20260303T070000Z
DTEND:20260303T093000Z
SUMMARY:Лабораторные исследования в профессиональной области
LOCATION:Не опр. Нет
END:VEVENT
BEGIN:VEVENT
UID:l88o@192.168.245.71:3006
SEQUENCE:0
DTSTAMP:20260422T190906Z
DTSTART:20260304T060000Z
DTEND:20260304T150000Z
SUMMARY:Практика по профилю профессиональной деятельности
LOCATION:Не опр. База практик
END:VEVENT
BEGIN:VEVENT
UID:lm9q@192.168.245.71:3006
SEQUENCE:0
DTSTAMP:20260422T190906Z
DTSTART:20260304T060000Z
DTEND:20260304T150000Z
SUMMARY:Практика по профилю профессиональной деятельности
LOCATION:Не опр. База практик
END:VEVENT
BEGIN:VEVENT
UID:9z64@192.168.245.71:3006
SEQUENCE:0
DTSTAMP:20260422T190906Z
DTSTART:20260304T060000Z
DTEND:20260304T150000Z
SUMMARY:Практика по профилю профессиональной деятельности
LOCATION:Не опр. База практик
END:VEVENT
BEGIN:VEVENT
UID:5zgg@192.168.245.71:3006
SEQUENCE:0
DTSTAMP:20260422T190906Z
DTSTART:20260304T060000Z
DTEND:20260304T150000Z
SUMMARY:Практика по профилю профессиональной деятельности
LOCATION:Не опр. База практик
END:VEVENT
BEGIN:VEVENT
UID:v2mw@192.168.245.71:3006
SEQUENCE:0
DTSTAMP:20260422T190906Z
DTSTART:20260304T060000Z
DTEND:20260304T150000Z
SUMMARY:Практика по профилю профессиональной деятельности
LOCATION:Не опр. База практик
END:VEVENT
BEGIN:VEVENT
UID:9woh@192.168.245.71:3006
SEQUENCE:0
DTSTAMP:20260422T190906Z
DTSTART:20260304T060000Z
DTEND:20260304T150000Z
SUMMARY:Практика по профилю профессиональной деятельности
LOCATION:Не опр. База практик
END:VEVENT
BEGIN:VEVENT
UID:3vjz@192.168.245.71:3006
SEQUENCE:0
DTSTAMP:20260422T190906Z
DTSTART:20260304T060000Z
DTEND:20260304T150000Z
SUMMARY:Практика по профилю профессиональной деятельности
LOCATION:Не опр. База практик
END:VEVENT
BEGIN:VEVENT
UID:ghdl@192.168.245.71:3006
SEQUENCE:0
DTSTAMP:20260422T190906Z
DTSTART:20260304T060000Z
DTEND:20260304T150000Z
SUMMARY:Практика по профилю профессиональной деятельности
LOCATION:Не опр. База практик
END:VEVENT
BEGIN:VEVENT
UID:512k@192.168.245.71:3006
SEQUENCE:0
DTSTAMP:20260422T190906Z
DTSTART:20260304T070000Z
DTEND:20260304T084000Z
SUMMARY:Научно-исследовательская работа
LOCATION:Не опр. База практик
END:VEVENT
BEGIN:VEVENT
UID:1ed6@192.168.245.71:3006
SEQUENCE:0
DTSTAMP:20260422T190906Z
DTSTART:20260304T070000Z
DTEND:20260304T084000Z
SUMMARY:Научно-исследовательская работа
LOCATION:Не опр. База практик
END:VEVENT
BEGIN:VEVENT
UID:xa4y@192.168.245.71:3006
SEQUENCE:0
DTSTAMP:20260422T190906Z
DTSTART:20260304T070000Z
DTEND:20260304T084000Z
SUMMARY:Научно-исследовательская работа (концентрированная)
LOCATION:Не опр. Нет
END:VEVENT
BEGIN:VEVENT
UID:40ln@192.168.245.71:3006
SEQUENCE:0
DTSTAMP:20260422T190906Z
DTSTART:20260304T070000Z
DTEND:20260304T084000Z
SUMMARY:Научно-исследовательская работа (концентрированная)
LOCATION:Не опр. Нет
END:VEVENT
BEGIN:VEVENT
UID:0n1z@192.168.245.71:3006
SEQUENCE:0
DTSTAMP:20260422T190906Z
DTSTART:20260304T070000Z
DTEND:20260304T084000Z
SUMMARY:Научно-исследовательская работа (концентрированная)
LOCATION:Не опр. Нет
END:VEVENT
BEGIN:VEVENT
UID:uzqo@192.168.245.71:3006
SEQUENCE:0
DTSTAMP:20260422T190906Z
DTSTART:20260304T070000Z
DTEND:20260304T084000Z
SUMMARY:Научно-исследовательская работа (концентрированная)
LOCATION:Не опр. Нет
END:VEVENT
BEGIN:VEVENT
UID:8vqu@192.168.245.71:3006
SEQUENCE:0
DTSTAMP:20260422T190906Z
DTSTART:20260304T070000Z
DTEND:20260304T084000Z
SUMMARY:Научно-исследовательская работа (концентрированная)
LOCATION:Не опр. Нет
END:VEVENT
BEGIN:VEVENT
UID:9i9q@192.168.245.71:3006
SEQUENCE:0
DTSTAMP:20260422T190906Z
DTSTART:20260304T070000Z
DTEND:20260304T084000Z
SUMMARY:Проектная деятельность на предприятиях нефтегазовой отрасли
LOCATION:2 к. каф.
END:VEVENT
BEGIN:VEVENT
UID:o8hc@192.168.245.71:3006
SEQUENCE:0
DTSTAMP:20260422T190906Z
DTSTART:20260305T060000Z
DTEND:20260305T150000Z
SUMMARY:Практика по профилю профессиональной деятельности
LOCATION:Не опр. База практик
END:VEVENT
BEGIN:VEVENT
UID:i44f@192.168.245.71:3006
SEQUENCE:0
DTSTAMP:20260422T190906Z
DTSTART:20260305T060000Z
DTEND:20260305T150000Z
SUMMARY:Практика по профилю профессиональной деятельности
LOCATION:Не опр. База практик
END:VEVENT
BEGIN:VEVENT
UID:ol96@192.168.245.71:3006
SEQUENCE:0
DTSTAMP:20260422T190906Z
DTSTART:20260305T060000Z
DTEND:20260305T150000Z
SUMMARY:Практика по профилю профессиональной деятельности
LOCATION:Не опр. База практик
END:VEVENT
BEGIN:VEVENT
UID:oubl@192.168.245.71:3006
SEQUENCE:0
DTSTAMP:20260422T190906Z
DTSTART:20260305T060000Z
DTEND:20260305T150000Z
SUMMARY:Практика по профилю профессиональной деятельности
LOCATION:Не опр. База практик
END:VEVENT
BEGIN:VEVENT
UID:fw8h@192.168.245.71:3006
SEQUENCE:0
DTSTAMP:20260422T190906Z
DTSTART:20260305T060000Z
DTEND:20260305T150000Z
SUMMARY:Практика по профилю профессиональной деятельности
LOCATION:Не опр. База практик
END:VEVENT
BEGIN:VEVENT
UID:8m9d@192.168.245.71:3006
SEQUENCE:0
DTSTAMP:20260422T190906Z
DTSTART:20260305T060000Z
DTEND:20260305T150000Z
SUMMARY:Практика по профилю профессиональной деятельности
LOCATION:Не опр. База практик
END:VEVENT
BEGIN:VEVENT
UID:l9ca@192.168.245.71:3006
SEQUENCE:0
DTSTAMP:20260422T190906Z
DTSTART:20260305T060000Z
DTEND:20260305T150000Z
SUMMARY:Практика по профилю профессиональной деятельности
LOCATION:Не опр. База практик
END:VEVENT
BEGIN:VEVENT
UID:ttyi@192.168.245.71:3006
SEQUENCE:0
DTSTAMP:20260422T190906Z
DTSTART:20260305T060000Z
DTEND:20260305T150000Z
SUMMARY:Практика по профилю профессиональной деятельности
LOCATION:Не опр. База практик
END:VEVENT
BEGIN:VEVENT
UID:9230@192.168.245.71:3006
SEQUENCE:0
DTSTAMP:20260422T190906Z
DTSTART:20260305T070000Z
DTEND:20260305T084000Z
SUMMARY:Научно-исследовательская работа
LOCATION:Не опр. База практик
END:VEVENT
BEGIN:VEVENT
UID:r9su@192.168.245.71:3006
SEQUENCE:0
DTSTAMP:20260422T190906Z
DTSTART:20260305T070000Z
DTEND:20260305T084000Z
SUMMARY:Научно-исследовательская работа
LOCATION:Не опр. База практик
END:VEVENT
BEGIN:VEVENT
UID:u5zi@192.168.245.71:3006
SEQUENCE:0
DTSTAMP:20260422T190906Z
DTSTART:20260305T070000Z
DTEND:20260305T084000Z
SUMMARY:Научно-исследовательская работа (концентрированная)
LOCATION:Не опр. Нет
END:VEVENT
BEGIN:VEVENT
UID:3o2h@192.168.245.71:3006
SEQUENCE:0
DTSTAMP:20260422T190906Z
DTSTART:20260305T070000Z
DTEND:20260305T084000Z
SUMMARY:Научно-исследовательская работа (концентрированная)
LOCATION:Не опр. Нет
END:VEVENT
BEGIN:VEVENT
UID:7w9j@192.168.245.71:3006
SEQUENCE:0
DTSTAMP:20260422T190906Z
DTSTART:20260305T070000Z
DTEND:20260305T084000Z
SUMMARY:Научно-исследовательская работа (концентрированная)
LOCATION:Не опр. Нет
END:VEVENT
BEGIN:VEVENT
UID:ubu7@192.168.245.71:3006
SEQUENCE:0
DTSTAMP:20260422T190906Z
DTSTART:20260305T070000Z
DTEND:20260305T084000Z
SUMMARY:Научно-исследовательская работа (концентрированная)
LOCATION:Не опр. Нет
END:VEVENT
BEGIN:VEVENT
UID:hevl@192.168.245.71:3006
SEQUENCE:0
DTSTAMP:20260422T190906Z
DTSTART:20260305T070000Z
DTEND:20260305T084000Z
SUMMARY:Научно-исследовательская работа (концентрированная)
LOCATION:Не опр. Нет
END:VEVENT
BEGIN:VEVENT
UID:o76c@192.168.245.71:3006
SEQUENCE:0
DTSTAMP:20260422T190906Z
DTSTART:20260305T070000Z
DTEND:20260305T103000Z
SUMMARY:Преддипломная практика
LOCATION:Не опр. Нет
END:VEVENT
BEGIN:VEVENT
UID:5u04@192.168.245.71:3006
SEQUENCE:0
DTSTAMP:20260422T190906Z
DTSTART:20260305T090000Z
DTEND:20260305T183000Z
SUMMARY:Научно-исследовательская работа
LOCATION:DL Дистанционно
END:VEVENT
BEGIN:VEVENT
UID:0n89@192.168.245.71:3006
SEQUENCE:0
DTSTAMP:20260422T190906Z
DTSTART:20260306T050000Z
DTEND:20260306T123000Z
SUMMARY:Научно-исследовательская работа
LOCATION:DL Дистанционно
END:VEVENT
BEGIN:VEVENT
UID:du5u@192.168.245.71:3006
SEQUENCE:0
DTSTAMP:20260422T190906Z
DTSTART:20260306T050000Z
DTEND:20260306T123000Z
SUMMARY:Научно-исследовательская работа
LOCATION:DL Дистанционно
END:VEVENT
BEGIN:VEVENT
UID:uu8u@192.168.245.71:3006
SEQUENCE:0
DTSTAMP:20260422T190906Z
DTSTART:20260306T060000Z
DTEND:20260306T150000Z
SUMMARY:Практика по профилю профессиональной деятельности
LOCATION:Не опр. База практик
END:VEVENT
BEGIN:VEVENT
UID:u3bz@192.168.245.71:3006
SEQUENCE:0
DTSTAMP:20260422T190906Z
DTSTART:20260306T060000Z
DTEND:20260306T150000Z
SUMMARY:Практика по профилю профессиональной деятельности
LOCATION:Не опр. База практик
END:VEVENT
BEGIN:VEVENT
UID:hkvb@192.168.245.71:3006
SEQUENCE:0
DTSTAMP:20260422T190906Z
DTSTART:20260306T060000Z
DTEND:20260306T150000Z
SUMMARY:Практика по профилю профессиональной деятельности
LOCATION:Не опр. База практик
END:VEVENT
BEGIN:VEVENT
UID:5jl4@192.168.245.71:3006
SEQUENCE:0
DTSTAMP:20260422T190906Z
DTSTART:20260306T060000Z
DTEND:20260306T150000Z
SUMMARY:Практика по профилю профессиональной деятельности
LOCATION:Не опр. База практик
END:VEVENT
BEGIN:VEVENT
UID:0ybe@192.168.245.71:3006
SEQUENCE:0
DTSTAMP:20260422T190906Z
DTSTART:20260306T060000Z
DTEND:20260306T150000Z
SUMMARY:Практика по профилю профессиональной деятельности
LOCATION:Не опр. База практик
END:VEVENT
BEGIN:VEVENT
UID:svto@192.168.245.71:3006
SEQUENCE:0
DTSTAMP:20260422T190906Z
DTSTART:20260306T060000Z
DTEND:20260306T150000Z
SUMMARY:Практика по профилю профессиональной деятельности
LOCATION:Не опр. База практик
END:VEVENT
BEGIN:VEVENT
UID:ueam@192.168.245.71:3006
SEQUENCE:0
DTSTAMP:20260422T190906Z
DTSTART:20260306T060000Z
DTEND:20260306T150000Z
SUMMARY:Практика по профилю профессиональной деятельности
LOCATION:Не опр. База практик
END:VEVENT
BEGIN:VEVENT
UID:7xn2@192.168.245.71:3006
SEQUENCE:0
DTSTAMP:20260422T190906Z
DTSTART:20260306T060000Z
DTEND:20260306T150000Z
SUMMARY:Практика по профилю профессиональной деятельности
LOCATION:Не опр. База практик
END:VEVENT
BEGIN:VEVENT
UID:kf1t@192.168.245.71:3006
SEQUENCE:0
DTSTAMP:20260422T190906Z
DTSTART:20260306T070000Z
DTEND:20260306T140000Z
SUMMARY:Технологическая практика
LOCATION:Не опр. Нет
END:VEVENT
BEGIN:VEVENT
UID:ny59@192.168.245.71:3006
SEQUENCE:0
DTSTAMP:20260422T190906Z
DTSTART:20260306T070000Z
DTEND:20260306T140000Z
SUMMARY:Технологическая практика
LOCATION:Не опр. Нет
END:VEVENT
BEGIN:VEVENT
UID:rglm@192.168.245.71:3006
SEQUENCE:0
DTSTAMP:20260422T190906Z
DTSTART:20260306T070000Z
DTEND:20260306T084000Z
SUMMARY:Научно-исследовательская работа
LOCATION:Не опр. База практик
END:VEVENT
BEGIN:VEVENT
UID:v9tg@192.168.245.71:3006
SEQUENCE:0
DTSTAMP:20260422T190906Z
DTSTART:20260306T070000Z
DTEND:20260306T084000Z
SUMMARY:Научно-исследовательская работа
LOCATION:Не опр. База практик
END:VEVENT
BEGIN:VEVENT
UID:nkdr@192.168.245.71:3006
SEQUENCE:0
DTSTAMP:20260422T190906Z
DTSTART:20260306T070000Z
DTEND:20260306T084000Z
SUMMARY:Научно-исследовательская работа (концентрированная)
LOCATION:Не опр. Нет
END:VEVENT
BEGIN:VEVENT
UID:s9zp@192.168.245.71:3006
SEQUENCE:0
DTSTAMP:20260422T190906Z
DTSTART:20260306T070000Z
DTEND:20260306T084000Z
SUMMARY:Научно-исследовательская работа (концентрированная)
LOCATION:Не опр. Нет
END:VEVENT
BEGIN:VEVENT
UID:74l2@192.168.245.71:3006
SEQUENCE:0
DTSTAMP:20260422T190906Z
DTSTART:20260306T070000Z
DTEND:20260306T084000Z
SUMMARY:Научно-исследовательская работа (концентрированная)
LOCATION:Не опр. Нет
END:VEVENT
BEGIN:VEVENT
UID:ogv9@192.168.245.71:3006
SEQUENCE:0
DTSTAMP:20260422T190906Z
DTSTART:20260306T070000Z
DTEND:20260306T084000Z
SUMMARY:Научно-исследовательская работа (концентрированная)
LOCATION:Не опр. Нет
END:VEVENT
BEGIN:VEVENT
UID:pf2b@192.168.245.71:3006
SEQUENCE:0
DTSTAMP:20260422T190906Z
DTSTART:20260306T070000Z
DTEND:20260306T084000Z
SUMMARY:Научно-исследовательская работа (концентрированная)
LOCATION:Не опр. Нет
END:VEVENT
BEGIN:VEVENT
UID:xd5k@192.168.245.71:3006
SEQUENCE:0
DTSTAMP:20260422T190906Z
DTSTART:20260307T060000Z
DTEND:20260307T150000Z
SUMMARY:Практика по профилю профессиональной деятельности
LOCATION:DL Дистанционно
END:VEVENT
BEGIN:VEVENT
UID:ofrr@192.168.245.71:3006
SEQUENCE:0
DTSTAMP:20260422T190906Z
DTSTART:20260307T060000Z
DTEND:20260307T150000Z
SUMMARY:Практика по профилю профессиональной деятельности
LOCATION:Не опр. База практик
END:VEVENT
BEGIN:VEVENT
UID:knuw@192.168.245.71:3006
SEQUENCE:0
DTSTAMP:20260422T190906Z
DTSTART:20260307T060000Z
DTEND:20260307T150000Z
SUMMARY:Практика по профилю профессиональной деятельности
LOCATION:Не опр. База практик
END:VEVENT
BEGIN:VEVENT
UID:5cfp@192.168.245.71:3006
SEQUENCE:0
DTSTAMP:20260422T190906Z
DTSTART:20260307T060000Z
DTEND:20260307T150000Z
SUMMARY:Практика по профилю профессиональной деятельности
LOCATION:Не опр. База практик
END:VEVENT
BEGIN:VEVENT
UID:e7uy@192.168.245.71:3006
SEQUENCE:0
DTSTAMP:20260422T190906Z
DTSTART:20260307T060000Z
DTEND:20260307T150000Z
SUMMARY:Практика по профилю профессиональной деятельности
LOCATION:Не опр. База практик
END:VEVENT
BEGIN:VEVENT
UID:u7l4@192.168.245.71:3006
SEQUENCE:0
DTSTAMP:20260422T190906Z
DTSTART:20260307T060000Z
DTEND:20260307T150000Z
SUMMARY:Практика по профилю профессиональной деятельности
LOCATION:Не опр. База практик
END:VEVENT
BEGIN:VEVENT
UID:b1hr@192.168.245.71:3006
SEQUENCE:0
DTSTAMP:20260422T190906Z
DTSTART:20260307T060000Z
DTEND:20260307T150000Z
SUMMARY:Практика по профилю профессиональной деятельности
LOCATION:Не опр. База практик
END:VEVENT
BEGIN:VEVENT
UID:ld2y@192.168.245.71:3006
SEQUENCE:0
DTSTAMP:20260422T190906Z
DTSTART:20260307T060000Z
DTEND:20260307T150000Z
SUMMARY:Практика по профилю профессиональной деятельности
LOCATION:Не опр. База практик
END:VEVENT
BEGIN:VEVENT
UID:jmi4@192.168.245.71:3006
SEQUENCE:0
DTSTAMP:20260422T190906Z
DTSTART:20260307T070000Z
DTEND:20260307T130000Z
SUMMARY:Преддипломная практика
LOCATION:Не опр. Нет
END:VEVENT
BEGIN:VEVENT
UID:fcms@192.168.245.71:3006
SEQUENCE:0
DTSTAMP:20260422T190906Z
DTSTART:20260307T070000Z
DTEND:20260307T103000Z
SUMMARY:Преддипломная практика
LOCATION:Не опр. Нет
END:VEVENT
BEGIN:VEVENT
UID:vuea@192.168.245.71:3006
SEQUENCE:0
DTSTAMP:20260422T190906Z
DTSTART:20260307T070000Z
DTEND:20260307T084000Z
SUMMARY:Научно-исследовательская работа
LOCATION:Не опр. База практик
END:VEVENT
BEGIN:VEVENT
UID:jcr7@192.168.245.71:3006
SEQUENCE:0
DTSTAMP:20260422T190906Z
DTSTART:20260307T070000Z
DTEND:20260307T084000Z
SUMMARY:Научно-исследовательская работа
LOCATION:Не опр. База практик
END:VEVENT
BEGIN:VEVENT
UID:1ph4@192.168.245.71:3006
SEQUENCE:0
DTSTAMP:20260422T190906Z
DTSTART:20260307T070000Z
DTEND:20260307T084000Z
SUMMARY:Научно-исследовательская работа (концентрированная)
LOCATION:Не опр. Нет
END:VEVENT
BEGIN:VEVENT
UID:qftz@192.168.245.71:3006
SEQUENCE:0
DTSTAMP:20260422T190906Z
DTSTART:20260307T070000Z
DTEND:20260307T084000Z
SUMMARY:Научно-исследовательская работа (концентрированная)
LOCATION:Не опр. Нет
END:VEVENT
BEGIN:VEVENT
UID:d2b2@192.168.245.71:3006
SEQUENCE:0
DTSTAMP:20260422T190906Z
DTSTART:20260307T070000Z
DTEND:20260307T084000Z
SUMMARY:Научно-исследовательская работа (концентрированная)
LOCATION:Не опр. Нет
END:VEVENT
BEGIN:VEVENT
UID:6yya@192.168.245.71:3006
SEQUENCE:0
DTSTAMP:20260422T190906Z
DTSTART:20260307T070000Z
DTEND:20260307T084000Z
SUMMARY:Научно-исследовательская работа (концентрированная)
LOCATION:Не опр. Нет
END:VEVENT
BEGIN:VEVENT
UID:dj4s@192.168.245.71:3006
SEQUENCE:0
DTSTAMP:20260422T190906Z
DTSTART:20260307T070000Z
DTEND:20260307T084000Z
SUMMARY:Научно-исследовательская работа (концентрированная)
LOCATION:Не опр. Нет
END:VEVENT
BEGIN:VEVENT
UID:bl90@192.168.245.71:3006
SEQUENCE:0
DTSTAMP:20260422T190906Z
DTSTART:20260307T090000Z
DTEND:20260307T183000Z
SUMMARY:Научно-исследовательская работа
LOCATION:DL Дистанционно
END:VEVENT
END:VCALENDAR