BEGIN:VCALENDAR
VERSION:2.0
PRODID:-//spbstu.ru//ical//RU
NAME:Расписание
X-WR-CALNAME:Расписание
TIMEZONE-ID:Europe/Moscow
X-WR-TIMEZONE:Europe/Moscow
BEGIN:VEVENT
UID:aaos@192.168.245.71:3006
SEQUENCE:0
DTSTAMP:20260425T105055Z
DTSTART:20250908T070000Z
DTEND:20250908T084000Z
SUMMARY:Аддитивные технологии в биомедицине
LOCATION:5 к. 104
END:VEVENT
BEGIN:VEVENT
UID:dpl8@192.168.245.71:3006
SEQUENCE:0
DTSTAMP:20260425T105055Z
DTSTART:20250908T070000Z
DTEND:20250908T084000Z
SUMMARY:Аддитивные технологии в биомедицине
LOCATION:5 к. 104
END:VEVENT
END:VCALENDAR