BEGIN:VCALENDAR
VERSION:2.0
PRODID:-//spbstu.ru//ical//RU
NAME:Расписание
X-WR-CALNAME:Расписание
TIMEZONE-ID:Europe/Moscow
X-WR-TIMEZONE:Europe/Moscow
BEGIN:VEVENT
UID:fofr@192.168.245.71:3006
SEQUENCE:0
DTSTAMP:20260424T080700Z
DTSTART:20251013T110000Z
DTEND:20251013T124000Z
SUMMARY:Введение в профессиональную деятельность
LOCATION:1 к. 412
END:VEVENT
BEGIN:VEVENT
UID:d1e1@192.168.245.71:3006
SEQUENCE:0
DTSTAMP:20260424T080700Z
DTSTART:20251014T070000Z
DTEND:20251014T084000Z
SUMMARY:Теория механизмов и машин
LOCATION:1 к. 413
END:VEVENT
BEGIN:VEVENT
UID:a8kq@192.168.245.71:3006
SEQUENCE:0
DTSTAMP:20260424T080700Z
DTSTART:20251014T090000Z
DTEND:20251014T104000Z
SUMMARY:Теория механизмов и машин
LOCATION:1 к. 413
END:VEVENT
BEGIN:VEVENT
UID:tinp@192.168.245.71:3006
SEQUENCE:0
DTSTAMP:20260424T080700Z
DTSTART:20251017T090000Z
DTEND:20251017T104000Z
SUMMARY:Теория механизмов и машин
LOCATION:1 к. 413
END:VEVENT
BEGIN:VEVENT
UID:yhca@192.168.245.71:3006
SEQUENCE:0
DTSTAMP:20260424T080700Z
DTSTART:20251017T110000Z
DTEND:20251017T124000Z
SUMMARY:Теория механизмов и машин
LOCATION:1 к. 413
END:VEVENT
END:VCALENDAR