BEGIN:VCALENDAR
VERSION:2.0
PRODID:-//spbstu.ru//ical//RU
NAME:Расписание
X-WR-CALNAME:Расписание
TIMEZONE-ID:Europe/Moscow
X-WR-TIMEZONE:Europe/Moscow
BEGIN:VEVENT
UID:jsrq@192.168.245.71:3006
SEQUENCE:0
DTSTAMP:20260423T084701Z
DTSTART:20251208T110000Z
DTEND:20251208T124000Z
SUMMARY:Введение в профессиональную деятельность
LOCATION:1 к. 412
END:VEVENT
BEGIN:VEVENT
UID:wp3i@192.168.245.71:3006
SEQUENCE:0
DTSTAMP:20260423T084701Z
DTSTART:20251209T070000Z
DTEND:20251209T084000Z
SUMMARY:Теория механизмов и машин
LOCATION:1 к. 413
END:VEVENT
BEGIN:VEVENT
UID:l2tu@192.168.245.71:3006
SEQUENCE:0
DTSTAMP:20260423T084701Z
DTSTART:20251209T090000Z
DTEND:20251209T104000Z
SUMMARY:Теория механизмов и машин
LOCATION:1 к. 413
END:VEVENT
BEGIN:VEVENT
UID:a5m7@192.168.245.71:3006
SEQUENCE:0
DTSTAMP:20260423T084701Z
DTSTART:20251212T090000Z
DTEND:20251212T104000Z
SUMMARY:Теория механизмов и машин
LOCATION:1 к. 413
END:VEVENT
BEGIN:VEVENT
UID:2409@192.168.245.71:3006
SEQUENCE:0
DTSTAMP:20260423T084701Z
DTSTART:20251212T110000Z
DTEND:20251212T124000Z
SUMMARY:Теория механизмов и машин
LOCATION:1 к. 413
END:VEVENT
END:VCALENDAR