BEGIN:VCALENDAR
VERSION:2.0
PRODID:-//spbstu.ru//ical//RU
NAME:Расписание
X-WR-CALNAME:Расписание
TIMEZONE-ID:Europe/Moscow
X-WR-TIMEZONE:Europe/Moscow
BEGIN:VEVENT
UID:5w1p@192.168.245.71:3006
SEQUENCE:0
DTSTAMP:20260424T083846Z
DTSTART:20251225T070000Z
DTEND:20251225T100000Z
SUMMARY:Иностранный язык: Базовый курс
LOCATION:ГК-2 309
END:VEVENT
BEGIN:VEVENT
UID:nzkf@192.168.245.71:3006
SEQUENCE:0
DTSTAMP:20260424T083846Z
DTSTART:20251226T100000Z
DTEND:20251226T130000Z
SUMMARY:Иностранный язык: Базовый курс
LOCATION:2 к. 331
END:VEVENT
END:VCALENDAR