BEGIN:VCALENDAR
VERSION:2.0
PRODID:-//spbstu.ru//ical//RU
NAME:Расписание
X-WR-CALNAME:Расписание
TIMEZONE-ID:Europe/Moscow
X-WR-TIMEZONE:Europe/Moscow
BEGIN:VEVENT
UID:b010@192.168.245.71:3006
SEQUENCE:0
DTSTAMP:20260420T121055Z
DTSTART:20260325T110000Z
DTEND:20260325T124000Z
SUMMARY:Физика
LOCATION:ГЗ 155
END:VEVENT
BEGIN:VEVENT
UID:uodo@192.168.245.71:3006
SEQUENCE:0
DTSTAMP:20260420T121055Z
DTSTART:20260325T130000Z
DTEND:20260325T144000Z
SUMMARY:Физика
LOCATION:ГЗ 155
END:VEVENT
END:VCALENDAR