BEGIN:VCALENDAR
VERSION:2.0
PRODID:-//spbstu.ru//ical//RU
NAME:Расписание
X-WR-CALNAME:Расписание
TIMEZONE-ID:Europe/Moscow
X-WR-TIMEZONE:Europe/Moscow
BEGIN:VEVENT
UID:v6yr@192.168.245.71:3006
SEQUENCE:0
DTSTAMP:20260422T072449Z
DTSTART:20250908T090000Z
DTEND:20250908T104000Z
SUMMARY:Гидравлика
LOCATION:ГК 123а
END:VEVENT
BEGIN:VEVENT
UID:dpjm@192.168.245.71:3006
SEQUENCE:0
DTSTAMP:20260422T072449Z
DTSTART:20250909T090000Z
DTEND:20250909T104000Z
SUMMARY:Водоснабжение и водоотведение
LOCATION:ГК 123а
END:VEVENT
BEGIN:VEVENT
UID:ujmp@192.168.245.71:3006
SEQUENCE:0
DTSTAMP:20260422T072449Z
DTSTART:20250909T110000Z
DTEND:20250909T124000Z
SUMMARY:Водоснабжение и водоотведение
LOCATION:ГК 123а
END:VEVENT
BEGIN:VEVENT
UID:dvdk@192.168.245.71:3006
SEQUENCE:0
DTSTAMP:20260422T072449Z
DTSTART:20250911T070000Z
DTEND:20250911T084000Z
SUMMARY:Гидравлика
LOCATION:ГК 123а
END:VEVENT
BEGIN:VEVENT
UID:3h25@192.168.245.71:3006
SEQUENCE:0
DTSTAMP:20260422T072449Z
DTSTART:20250911T110000Z
DTEND:20250911T124000Z
SUMMARY:Гидравлика
LOCATION:ГК 123б
END:VEVENT
BEGIN:VEVENT
UID:e0s7@192.168.245.71:3006
SEQUENCE:0
DTSTAMP:20260422T072449Z
DTSTART:20250912T153000Z
DTEND:20250912T171000Z
SUMMARY:Гидравлика
LOCATION:ГК 123а
END:VEVENT
BEGIN:VEVENT
UID:07fx@192.168.245.71:3006
SEQUENCE:0
DTSTAMP:20260422T072449Z
DTSTART:20250912T171500Z
DTEND:20250912T185500Z
SUMMARY:Гидравлика
LOCATION:ГК 123б
END:VEVENT
END:VCALENDAR