BEGIN:VCALENDAR
VERSION:2.0
PRODID:-//spbstu.ru//ical//RU
NAME:Расписание
X-WR-CALNAME:Расписание
TIMEZONE-ID:Europe/Moscow
X-WR-TIMEZONE:Europe/Moscow
BEGIN:VEVENT
UID:cp83@192.168.245.71:3006
SEQUENCE:0
DTSTAMP:20260425T042128Z
DTSTART:20251210T070000Z
DTEND:20251210T084000Z
SUMMARY:Основы автоматизации технологического оборудования и производств
LOCATION:1 к. 425
END:VEVENT
BEGIN:VEVENT
UID:fv45@192.168.245.71:3006
SEQUENCE:0
DTSTAMP:20260425T042128Z
DTSTART:20251212T070000Z
DTEND:20251212T084000Z
SUMMARY:Информационные системы в машиностроении
LOCATION:1 к. кафедра Автоматы
END:VEVENT
BEGIN:VEVENT
UID:j4h8@192.168.245.71:3006
SEQUENCE:0
DTSTAMP:20260425T042128Z
DTSTART:20251212T110000Z
DTEND:20251212T124000Z
SUMMARY:Информационные системы в мехатронике
LOCATION:1 к. кафедра Автоматы
END:VEVENT
END:VCALENDAR