BEGIN:VCALENDAR
VERSION:2.0
PRODID:-//spbstu.ru//ical//RU
NAME:Расписание
X-WR-CALNAME:Расписание
TIMEZONE-ID:Europe/Moscow
X-WR-TIMEZONE:Europe/Moscow
BEGIN:VEVENT
UID:dhfg@192.168.245.71:3006
SEQUENCE:0
DTSTAMP:20260423T173103Z
DTSTART:20251210T070000Z
DTEND:20251210T083000Z
SUMMARY:Русский язык в профессиональной сфере
LOCATION:15 к. 600
END:VEVENT
BEGIN:VEVENT
UID:f50s@192.168.245.71:3006
SEQUENCE:0
DTSTAMP:20260423T173103Z
DTSTART:20251210T090000Z
DTEND:20251210T103000Z
SUMMARY:Русский язык в профессиональной сфере
LOCATION:15 к. 600
END:VEVENT
BEGIN:VEVENT
UID:hmsw@192.168.245.71:3006
SEQUENCE:0
DTSTAMP:20260423T173103Z
DTSTART:20251210T110000Z
DTEND:20251210T123000Z
SUMMARY:Русский язык в профессиональной сфере
LOCATION:15 к. 600
END:VEVENT
END:VCALENDAR