BEGIN:VCALENDAR
VERSION:2.0
PRODID:-//spbstu.ru//ical//RU
NAME:Расписание
X-WR-CALNAME:Расписание
TIMEZONE-ID:Europe/Moscow
X-WR-TIMEZONE:Europe/Moscow
BEGIN:VEVENT
UID:pnrw@192.168.245.71:3006
SEQUENCE:0
DTSTAMP:20260421T045005Z
DTSTART:20260413T130000Z
DTEND:20260413T143000Z
SUMMARY:Русский язык как иностранный: деловая коммуникация
LOCATION:15 к. 600
END:VEVENT
BEGIN:VEVENT
UID:qfrk@192.168.245.71:3006
SEQUENCE:0
DTSTAMP:20260421T045005Z
DTSTART:20260413T150000Z
DTEND:20260413T163000Z
SUMMARY:Русский язык как иностранный: деловая коммуникация
LOCATION:15 к. 600
END:VEVENT
END:VCALENDAR