BEGIN:VCALENDAR
VERSION:2.0
PRODID:-//spbstu.ru//ical//RU
NAME:Расписание
X-WR-CALNAME:Расписание
TIMEZONE-ID:Europe/Moscow
X-WR-TIMEZONE:Europe/Moscow
BEGIN:VEVENT
UID:qr10@192.168.245.71:3006
SEQUENCE:0
DTSTAMP:20260423T071237Z
DTSTART:20251222T070000Z
DTEND:20251222T090000Z
SUMMARY:Введение в литературоведение
LOCATION:16 к. 209
END:VEVENT
BEGIN:VEVENT
UID:bgdm@192.168.245.71:3006
SEQUENCE:0
DTSTAMP:20260423T071237Z
DTSTART:20251222T100000Z
DTEND:20251222T122000Z
SUMMARY:Редакторский анализ художественного текста
LOCATION:16 к. 209
END:VEVENT
BEGIN:VEVENT
UID:ir7h@192.168.245.71:3006
SEQUENCE:0
DTSTAMP:20260423T071237Z
DTSTART:20251222T130000Z
DTEND:20251222T150000Z
SUMMARY:Редакторский анализ художественного текста
LOCATION:16 к. 209
END:VEVENT
BEGIN:VEVENT
UID:yz39@192.168.245.71:3006
SEQUENCE:0
DTSTAMP:20260423T071237Z
DTSTART:20251225T070000Z
DTEND:20251225T090000Z
SUMMARY:Оcновы корректуры и редактирования
LOCATION:16 к. 209
END:VEVENT
BEGIN:VEVENT
UID:kx4r@192.168.245.71:3006
SEQUENCE:0
DTSTAMP:20260423T071237Z
DTSTART:20251225T090000Z
DTEND:20251225T110000Z
SUMMARY:Оcновы корректуры и редактирования
LOCATION:16 к. 209
END:VEVENT
BEGIN:VEVENT
UID:zy1b@192.168.245.71:3006
SEQUENCE:0
DTSTAMP:20260423T071237Z
DTSTART:20251225T110000Z
DTEND:20251225T114500Z
SUMMARY:История и семиотика креативной индустрии
LOCATION:16 к. 209
END:VEVENT
BEGIN:VEVENT
UID:a2ej@192.168.245.71:3006
SEQUENCE:0
DTSTAMP:20260423T071237Z
DTSTART:20251225T110000Z
DTEND:20251225T114500Z
SUMMARY:Редакторская подготовка издания: практикум
LOCATION:16 к. 209
END:VEVENT
BEGIN:VEVENT
UID:05lv@192.168.245.71:3006
SEQUENCE:0
DTSTAMP:20260423T071237Z
DTSTART:20251226T090000Z
DTEND:20251226T114000Z
SUMMARY:Современный литературный процесс
LOCATION:16 к. 506
END:VEVENT
BEGIN:VEVENT
UID:zgqd@192.168.245.71:3006
SEQUENCE:0
DTSTAMP:20260423T071237Z
DTSTART:20251226T130000Z
DTEND:20251226T134500Z
SUMMARY:Современный русский язык
LOCATION:16 к. 414
END:VEVENT
END:VCALENDAR