BEGIN:VCALENDAR
VERSION:2.0
PRODID:-//spbstu.ru//ical//RU
NAME:Расписание
X-WR-CALNAME:Расписание
TIMEZONE-ID:Europe/Moscow
X-WR-TIMEZONE:Europe/Moscow
BEGIN:VEVENT
UID:s4xc@192.168.245.71:3006
SEQUENCE:0
DTSTAMP:20260422T020008Z
DTSTART:20260224T070000Z
DTEND:20260224T084000Z
SUMMARY:Редакторский анализ языковых процессов
LOCATION:16 к. 203
END:VEVENT
BEGIN:VEVENT
UID:otl2@192.168.245.71:3006
SEQUENCE:0
DTSTAMP:20260422T020008Z
DTSTART:20260224T110000Z
DTEND:20260224T124000Z
SUMMARY:Отечественная литература
LOCATION:16 к. 203
END:VEVENT
BEGIN:VEVENT
UID:5ho7@192.168.245.71:3006
SEQUENCE:0
DTSTAMP:20260422T020008Z
DTSTART:20260224T130000Z
DTEND:20260224T144000Z
SUMMARY:Отечественная литература
LOCATION:16 к. 203
END:VEVENT
BEGIN:VEVENT
UID:1bik@192.168.245.71:3006
SEQUENCE:0
DTSTAMP:20260422T020008Z
DTSTART:20260224T150000Z
DTEND:20260224T154500Z
SUMMARY:Оcновы корректуры и редактирования
LOCATION:16 к. 203
END:VEVENT
BEGIN:VEVENT
UID:rzji@192.168.245.71:3006
SEQUENCE:0
DTSTAMP:20260422T020008Z
DTSTART:20260224T150000Z
DTEND:20260224T154500Z
SUMMARY:Современный литературный процесс
LOCATION:16 к. 203
END:VEVENT
BEGIN:VEVENT
UID:t1ga@192.168.245.71:3006
SEQUENCE:0
DTSTAMP:20260422T020008Z
DTSTART:20260225T070000Z
DTEND:20260225T084000Z
SUMMARY:Русский язык как иностранный: Профессионально-ориентированный курс
LOCATION:16 к. 214
END:VEVENT
BEGIN:VEVENT
UID:io1h@192.168.245.71:3006
SEQUENCE:0
DTSTAMP:20260422T020008Z
DTSTART:20260225T090000Z
DTEND:20260225T104000Z
SUMMARY:Теория литературы и текстология
LOCATION:16 к. 214
END:VEVENT
BEGIN:VEVENT
UID:hup4@192.168.245.71:3006
SEQUENCE:0
DTSTAMP:20260422T020008Z
DTSTART:20260225T110000Z
DTEND:20260225T124000Z
SUMMARY:Теория литературы и текстология
LOCATION:16 к. 214
END:VEVENT
BEGIN:VEVENT
UID:n2ou@192.168.245.71:3006
SEQUENCE:0
DTSTAMP:20260422T020008Z
DTSTART:20260225T130000Z
DTEND:20260225T144000Z
SUMMARY:Теория литературы и текстология
LOCATION:16 к. 215
END:VEVENT
BEGIN:VEVENT
UID:ev9k@192.168.245.71:3006
SEQUENCE:0
DTSTAMP:20260422T020008Z
DTSTART:20260226T070000Z
DTEND:20260226T084000Z
SUMMARY:Отечественная литература
LOCATION:16 к. 119
END:VEVENT
BEGIN:VEVENT
UID:3qp9@192.168.245.71:3006
SEQUENCE:0
DTSTAMP:20260422T020008Z
DTSTART:20260226T090000Z
DTEND:20260226T104000Z
SUMMARY:Отечественная литература
LOCATION:16 к. 119
END:VEVENT
BEGIN:VEVENT
UID:6n0q@192.168.245.71:3006
SEQUENCE:0
DTSTAMP:20260422T020008Z
DTSTART:20260226T110000Z
DTEND:20260226T124000Z
SUMMARY:Редакторский анализ языковых процессов
LOCATION:16 к. 214
END:VEVENT
BEGIN:VEVENT
UID:w6pr@192.168.245.71:3006
SEQUENCE:0
DTSTAMP:20260422T020008Z
DTSTART:20260226T130000Z
DTEND:20260226T134500Z
SUMMARY:Современный русский язык
LOCATION:16 к. 214
END:VEVENT
BEGIN:VEVENT
UID:6dww@192.168.245.71:3006
SEQUENCE:0
DTSTAMP:20260422T020008Z
DTSTART:20260226T130000Z
DTEND:20260226T134500Z
SUMMARY:Редакторский анализ художественного текста
LOCATION:16 к. 214
END:VEVENT
BEGIN:VEVENT
UID:uslt@192.168.245.71:3006
SEQUENCE:0
DTSTAMP:20260422T020008Z
DTSTART:20260226T130000Z
DTEND:20260226T134500Z
SUMMARY:Образовательный форсайт
LOCATION:16 к. 214
END:VEVENT
BEGIN:VEVENT
UID:mw0h@192.168.245.71:3006
SEQUENCE:0
DTSTAMP:20260422T020008Z
DTSTART:20260226T143000Z
DTEND:20260226T151500Z
SUMMARY:Современный русский язык
LOCATION:16 к. 214
END:VEVENT
BEGIN:VEVENT
UID:9qxz@192.168.245.71:3006
SEQUENCE:0
DTSTAMP:20260422T020008Z
DTSTART:20260226T144000Z
DTEND:20260226T152000Z
SUMMARY:Введение в литературоведение
LOCATION:16 к. 214
END:VEVENT
END:VCALENDAR