BEGIN:VCALENDAR
VERSION:2.0
PRODID:-//spbstu.ru//ical//RU
NAME:Расписание
X-WR-CALNAME:Расписание
TIMEZONE-ID:Europe/Moscow
X-WR-TIMEZONE:Europe/Moscow
BEGIN:VEVENT
UID:ekl9@192.168.245.71:3006
SEQUENCE:0
DTSTAMP:20260421T191812Z
DTSTART:20260527T150000Z
DTEND:20260527T164000Z
SUMMARY:НИР (рассредоточенная)\, часть 2
LOCATION:50 уч.к 1231
END:VEVENT
END:VCALENDAR