BEGIN:VCALENDAR
VERSION:2.0
PRODID:-//spbstu.ru//ical//RU
NAME:Расписание
X-WR-CALNAME:Расписание
TIMEZONE-ID:Europe/Moscow
X-WR-TIMEZONE:Europe/Moscow
BEGIN:VEVENT
UID:cn4p@192.168.245.71:3006
SEQUENCE:0
DTSTAMP:20260422T042951Z
DTSTART:20260317T070000Z
DTEND:20260317T084000Z
SUMMARY:Иностранный язык: Базовый курс
LOCATION:16 к. 402
END:VEVENT
BEGIN:VEVENT
UID:2y7e@192.168.245.71:3006
SEQUENCE:0
DTSTAMP:20260422T042951Z
DTSTART:20260319T050000Z
DTEND:20260319T064000Z
SUMMARY:Иностранный язык: Базовый курс
LOCATION:16 к. 413
END:VEVENT
BEGIN:VEVENT
UID:dr3c@192.168.245.71:3006
SEQUENCE:0
DTSTAMP:20260422T042951Z
DTSTART:20260319T090000Z
DTEND:20260319T104000Z
SUMMARY:Иностранный язык. Профессионально-ориентированный курс
LOCATION:16 к. 410
END:VEVENT
BEGIN:VEVENT
UID:dlvm@192.168.245.71:3006
SEQUENCE:0
DTSTAMP:20260422T042951Z
DTSTART:20260319T110000Z
DTEND:20260319T124000Z
SUMMARY:Иностранный язык. Профессионально-ориентированный курс
LOCATION:16 к. 410
END:VEVENT
BEGIN:VEVENT
UID:4prb@192.168.245.71:3006
SEQUENCE:0
DTSTAMP:20260422T042951Z
DTSTART:20260320T050000Z
DTEND:20260320T064000Z
SUMMARY:Иностранный язык: Базовый курс
LOCATION:16 к. 413
END:VEVENT
BEGIN:VEVENT
UID:j214@192.168.245.71:3006
SEQUENCE:0
DTSTAMP:20260422T042951Z
DTSTART:20260320T070000Z
DTEND:20260320T084000Z
SUMMARY:Иностранный язык. Профессионально-ориентированный курс
LOCATION:16 к. 413
END:VEVENT
BEGIN:VEVENT
UID:pqdb@192.168.245.71:3006
SEQUENCE:0
DTSTAMP:20260422T042951Z
DTSTART:20260320T090000Z
DTEND:20260320T104000Z
SUMMARY:Иностранный язык. Профессионально-ориентированный курс
LOCATION:16 к. 413
END:VEVENT
END:VCALENDAR