BEGIN:VCALENDAR
VERSION:2.0
PRODID:-//spbstu.ru//ical//RU
NAME:Расписание
X-WR-CALNAME:Расписание
TIMEZONE-ID:Europe/Moscow
X-WR-TIMEZONE:Europe/Moscow
BEGIN:VEVENT
UID:gxwl@192.168.245.71:3006
SEQUENCE:0
DTSTAMP:20260422T055727Z
DTSTART:20260310T070000Z
DTEND:20260310T084000Z
SUMMARY:Иностранный язык: Базовый курс
LOCATION:16 к. 402
END:VEVENT
BEGIN:VEVENT
UID:dl86@192.168.245.71:3006
SEQUENCE:0
DTSTAMP:20260422T055727Z
DTSTART:20260312T050000Z
DTEND:20260312T064000Z
SUMMARY:Иностранный язык: Базовый курс
LOCATION:16 к. 413
END:VEVENT
BEGIN:VEVENT
UID:yd18@192.168.245.71:3006
SEQUENCE:0
DTSTAMP:20260422T055727Z
DTSTART:20260312T090000Z
DTEND:20260312T104000Z
SUMMARY:Иностранный язык. Профессионально-ориентированный курс
LOCATION:16 к. 410
END:VEVENT
BEGIN:VEVENT
UID:nho6@192.168.245.71:3006
SEQUENCE:0
DTSTAMP:20260422T055727Z
DTSTART:20260312T110000Z
DTEND:20260312T124000Z
SUMMARY:Иностранный язык. Профессионально-ориентированный курс
LOCATION:16 к. 410
END:VEVENT
BEGIN:VEVENT
UID:lz9b@192.168.245.71:3006
SEQUENCE:0
DTSTAMP:20260422T055727Z
DTSTART:20260313T050000Z
DTEND:20260313T064000Z
SUMMARY:Иностранный язык: Базовый курс
LOCATION:16 к. 413
END:VEVENT
BEGIN:VEVENT
UID:hcki@192.168.245.71:3006
SEQUENCE:0
DTSTAMP:20260422T055727Z
DTSTART:20260313T070000Z
DTEND:20260313T084000Z
SUMMARY:Иностранный язык. Профессионально-ориентированный курс
LOCATION:16 к. 413
END:VEVENT
BEGIN:VEVENT
UID:9i3r@192.168.245.71:3006
SEQUENCE:0
DTSTAMP:20260422T055727Z
DTSTART:20260313T090000Z
DTEND:20260313T104000Z
SUMMARY:Иностранный язык. Профессионально-ориентированный курс
LOCATION:16 к. 413
END:VEVENT
BEGIN:VEVENT
UID:iami@192.168.245.71:3006
SEQUENCE:0
DTSTAMP:20260422T055727Z
DTSTART:20260313T153000Z
DTEND:20260313T170000Z
SUMMARY:Иностранный язык: Базовый курс
LOCATION:DL Дистанционно
END:VEVENT
BEGIN:VEVENT
UID:avec@192.168.245.71:3006
SEQUENCE:0
DTSTAMP:20260422T055727Z
DTSTART:20260313T171500Z
DTEND:20260313T184500Z
SUMMARY:Иностранный язык: Базовый курс
LOCATION:DL Дистанционно
END:VEVENT
END:VCALENDAR