BEGIN:VCALENDAR
VERSION:2.0
PRODID:-//spbstu.ru//ical//RU
NAME:Расписание
X-WR-CALNAME:Расписание
TIMEZONE-ID:Europe/Moscow
X-WR-TIMEZONE:Europe/Moscow
BEGIN:VEVENT
UID:61qw@192.168.245.71:3006
SEQUENCE:0
DTSTAMP:20260421T213120Z
DTSTART:20260414T070000Z
DTEND:20260414T084000Z
SUMMARY:Иностранный язык: Базовый курс
LOCATION:16 к. 402
END:VEVENT
BEGIN:VEVENT
UID:b5ja@192.168.245.71:3006
SEQUENCE:0
DTSTAMP:20260421T213120Z
DTSTART:20260416T050000Z
DTEND:20260416T064000Z
SUMMARY:Иностранный язык: Базовый курс
LOCATION:16 к. 413
END:VEVENT
BEGIN:VEVENT
UID:ab46@192.168.245.71:3006
SEQUENCE:0
DTSTAMP:20260421T213120Z
DTSTART:20260416T090000Z
DTEND:20260416T104000Z
SUMMARY:Иностранный язык. Профессионально-ориентированный курс
LOCATION:16 к. 410
END:VEVENT
BEGIN:VEVENT
UID:ht9s@192.168.245.71:3006
SEQUENCE:0
DTSTAMP:20260421T213120Z
DTSTART:20260416T110000Z
DTEND:20260416T124000Z
SUMMARY:Иностранный язык. Профессионально-ориентированный курс
LOCATION:16 к. 410
END:VEVENT
BEGIN:VEVENT
UID:i16i@192.168.245.71:3006
SEQUENCE:0
DTSTAMP:20260421T213120Z
DTSTART:20260417T050000Z
DTEND:20260417T064000Z
SUMMARY:Иностранный язык: Базовый курс
LOCATION:16 к. 413
END:VEVENT
BEGIN:VEVENT
UID:36sg@192.168.245.71:3006
SEQUENCE:0
DTSTAMP:20260421T213120Z
DTSTART:20260417T070000Z
DTEND:20260417T084000Z
SUMMARY:Иностранный язык. Профессионально-ориентированный курс
LOCATION:16 к. 413
END:VEVENT
BEGIN:VEVENT
UID:flk9@192.168.245.71:3006
SEQUENCE:0
DTSTAMP:20260421T213120Z
DTSTART:20260417T090000Z
DTEND:20260417T104000Z
SUMMARY:Иностранный язык. Профессионально-ориентированный курс
LOCATION:16 к. 413
END:VEVENT
END:VCALENDAR