BEGIN:VCALENDAR
VERSION:2.0
PRODID:-//spbstu.ru//ical//RU
NAME:Расписание
X-WR-CALNAME:Расписание
TIMEZONE-ID:Europe/Moscow
X-WR-TIMEZONE:Europe/Moscow
BEGIN:VEVENT
UID:9tr6@192.168.245.71:3006
SEQUENCE:0
DTSTAMP:20260421T213123Z
DTSTART:20260428T070000Z
DTEND:20260428T084000Z
SUMMARY:Иностранный язык: Базовый курс
LOCATION:16 к. 402
END:VEVENT
BEGIN:VEVENT
UID:rgcj@192.168.245.71:3006
SEQUENCE:0
DTSTAMP:20260421T213123Z
DTSTART:20260430T050000Z
DTEND:20260430T064000Z
SUMMARY:Иностранный язык: Базовый курс
LOCATION:16 к. 413
END:VEVENT
BEGIN:VEVENT
UID:4ufy@192.168.245.71:3006
SEQUENCE:0
DTSTAMP:20260421T213123Z
DTSTART:20260430T090000Z
DTEND:20260430T104000Z
SUMMARY:Иностранный язык. Профессионально-ориентированный курс
LOCATION:16 к. 410
END:VEVENT
BEGIN:VEVENT
UID:pubh@192.168.245.71:3006
SEQUENCE:0
DTSTAMP:20260421T213123Z
DTSTART:20260430T110000Z
DTEND:20260430T124000Z
SUMMARY:Иностранный язык. Профессионально-ориентированный курс
LOCATION:16 к. 410
END:VEVENT
END:VCALENDAR