BEGIN:VCALENDAR
VERSION:2.0
PRODID:-//spbstu.ru//ical//RU
NAME:Расписание
X-WR-CALNAME:Расписание
TIMEZONE-ID:Europe/Moscow
X-WR-TIMEZONE:Europe/Moscow
BEGIN:VEVENT
UID:dmng@192.168.245.71:3006
SEQUENCE:0
DTSTAMP:20260421T194410Z
DTSTART:20251029T060000Z
DTEND:20251029T074000Z
SUMMARY:Вычислительная механика и компьютерный инжиниринг
LOCATION:НИК В2.21 (1)
END:VEVENT
END:VCALENDAR