BEGIN:VCALENDAR
VERSION:2.0
PRODID:-//spbstu.ru//ical//RU
NAME:Расписание
X-WR-CALNAME:Расписание
TIMEZONE-ID:Europe/Moscow
X-WR-TIMEZONE:Europe/Moscow
BEGIN:VEVENT
UID:p3j8@192.168.245.71:3006
SEQUENCE:0
DTSTAMP:20260424T051151Z
DTSTART:20251030T060000Z
DTEND:20251030T065000Z
SUMMARY:Иностранный язык. Профессионально-ориентированный курс
LOCATION:1 к. каф. ГГТ\, 1 этаж
END:VEVENT
BEGIN:VEVENT
UID:cv2b@192.168.245.71:3006
SEQUENCE:0
DTSTAMP:20260424T051151Z
DTSTART:20251030T070000Z
DTEND:20251030T084000Z
SUMMARY:Иностранный язык. Профессионально-ориентированный курс
LOCATION:1 к. каф. ГГТ\, 1 этаж
END:VEVENT
END:VCALENDAR