BEGIN:VCALENDAR
VERSION:2.0
PRODID:-//spbstu.ru//ical//RU
NAME:Расписание
X-WR-CALNAME:Расписание
TIMEZONE-ID:Europe/Moscow
X-WR-TIMEZONE:Europe/Moscow
BEGIN:VEVENT
UID:uqvf@192.168.245.71:3006
SEQUENCE:0
DTSTAMP:20260421T084637Z
DTSTART:20260518T090000Z
DTEND:20260518T104000Z
SUMMARY:Моделирование турбулентности
LOCATION:2 к. 160
END:VEVENT
BEGIN:VEVENT
UID:ln65@192.168.245.71:3006
SEQUENCE:0
DTSTAMP:20260421T084637Z
DTSTART:20260518T110000Z
DTEND:20260518T124000Z
SUMMARY:Иностранный язык. Профессионально-ориентированный курс
LOCATION:2 к. 143
END:VEVENT
BEGIN:VEVENT
UID:6d2j@192.168.245.71:3006
SEQUENCE:0
DTSTAMP:20260421T084637Z
DTSTART:20260518T130000Z
DTEND:20260518T144000Z
SUMMARY:Модели и технологии расчета турбулентных потоков
LOCATION:Мех. к. БМ
END:VEVENT
BEGIN:VEVENT
UID:s8hg@192.168.245.71:3006
SEQUENCE:0
DTSTAMP:20260421T084637Z
DTSTART:20260518T150000Z
DTEND:20260518T154000Z
SUMMARY:Модели и технологии расчета турбулентных потоков
LOCATION:Мех. к. БМ
END:VEVENT
END:VCALENDAR