BEGIN:VCALENDAR
VERSION:2.0
PRODID:-//spbstu.ru//ical//RU
NAME:Расписание
X-WR-CALNAME:Расписание
TIMEZONE-ID:Europe/Moscow
X-WR-TIMEZONE:Europe/Moscow
BEGIN:VEVENT
UID:84w8@192.168.245.71:3006
SEQUENCE:0
DTSTAMP:20260424T061050Z
DTSTART:20251105T090000Z
DTEND:20251105T104000Z
SUMMARY:Физика твердого тела и полупроводников
LOCATION:2 к. 359
END:VEVENT
BEGIN:VEVENT
UID:x80c@192.168.245.71:3006
SEQUENCE:0
DTSTAMP:20260424T061050Z
DTSTART:20251105T090000Z
DTEND:20251105T104000Z
SUMMARY:Физика конденсированного состояния
LOCATION:2 к. 359
END:VEVENT
BEGIN:VEVENT
UID:1ttv@192.168.245.71:3006
SEQUENCE:0
DTSTAMP:20260424T061050Z
DTSTART:20251105T143000Z
DTEND:20251105T160000Z
SUMMARY:Физика конденсированного состояния
LOCATION:2 к. 209
END:VEVENT
BEGIN:VEVENT
UID:6lav@192.168.245.71:3006
SEQUENCE:0
DTSTAMP:20260424T061050Z
DTSTART:20251107T130000Z
DTEND:20251107T144000Z
SUMMARY:Физика сверхпроводников
LOCATION:2 к. 213
END:VEVENT
END:VCALENDAR