BEGIN:VCALENDAR
VERSION:2.0
PRODID:-//spbstu.ru//ical//RU
NAME:Расписание
X-WR-CALNAME:Расписание
TIMEZONE-ID:Europe/Moscow
X-WR-TIMEZONE:Europe/Moscow
BEGIN:VEVENT
UID:22ri@192.168.245.71:3006
SEQUENCE:0
DTSTAMP:20260421T120638Z
DTSTART:20260318T130000Z
DTEND:20260318T144000Z
SUMMARY:Квантовая механика
LOCATION:2 к. 214
END:VEVENT
BEGIN:VEVENT
UID:2ps6@192.168.245.71:3006
SEQUENCE:0
DTSTAMP:20260421T120638Z
DTSTART:20260318T150000Z
DTEND:20260318T163000Z
SUMMARY:Физика твердого тела и полупроводников
LOCATION:2 к. 213
END:VEVENT
BEGIN:VEVENT
UID:iri4@192.168.245.71:3006
SEQUENCE:0
DTSTAMP:20260421T120638Z
DTSTART:20260319T070000Z
DTEND:20260319T084000Z
SUMMARY:Физика конденсированного состояния
LOCATION:2 к. 209
END:VEVENT
BEGIN:VEVENT
UID:33p5@192.168.245.71:3006
SEQUENCE:0
DTSTAMP:20260421T120638Z
DTSTART:20260319T090000Z
DTEND:20260319T104000Z
SUMMARY:Физика конденсированного состояния
LOCATION:2 к. 209
END:VEVENT
END:VCALENDAR