BEGIN:VCALENDAR
VERSION:2.0
PRODID:-//spbstu.ru//ical//RU
NAME:Расписание
X-WR-CALNAME:Расписание
TIMEZONE-ID:Europe/Moscow
X-WR-TIMEZONE:Europe/Moscow
BEGIN:VEVENT
UID:v94a@192.168.245.71:3006
SEQUENCE:0
DTSTAMP:20260421T070309Z
DTSTART:20260506T130000Z
DTEND:20260506T144000Z
SUMMARY:Квантовая механика
LOCATION:2 к. 214
END:VEVENT
BEGIN:VEVENT
UID:h02j@192.168.245.71:3006
SEQUENCE:0
DTSTAMP:20260421T070309Z
DTSTART:20260507T070000Z
DTEND:20260507T084000Z
SUMMARY:Физика конденсированного состояния
LOCATION:2 к. 209
END:VEVENT
BEGIN:VEVENT
UID:4adl@192.168.245.71:3006
SEQUENCE:0
DTSTAMP:20260421T070309Z
DTSTART:20260507T090000Z
DTEND:20260507T104000Z
SUMMARY:Физика конденсированного состояния
LOCATION:2 к. 209
END:VEVENT
BEGIN:VEVENT
UID:mpcu@192.168.245.71:3006
SEQUENCE:0
DTSTAMP:20260421T070309Z
DTSTART:20260508T110000Z
DTEND:20260508T124000Z
SUMMARY:Фотоника
LOCATION:2 к. 214
END:VEVENT
END:VCALENDAR