BEGIN:VCALENDAR
VERSION:2.0
PRODID:-//spbstu.ru//ical//RU
NAME:Расписание
X-WR-CALNAME:Расписание
TIMEZONE-ID:Europe/Moscow
X-WR-TIMEZONE:Europe/Moscow
BEGIN:VEVENT
UID:lih7@192.168.245.71:3006
SEQUENCE:0
DTSTAMP:20260425T170001Z
DTSTART:20251021T130000Z
DTEND:20251021T144000Z
SUMMARY:Теоретическая инноватика
LOCATION:1 к. 413
END:VEVENT
BEGIN:VEVENT
UID:roxb@192.168.245.71:3006
SEQUENCE:0
DTSTAMP:20260425T170001Z
DTSTART:20251022T130000Z
DTEND:20251022T144000Z
SUMMARY:История и методология науки
LOCATION:11 к. 350
END:VEVENT
BEGIN:VEVENT
UID:8g4j@192.168.245.71:3006
SEQUENCE:0
DTSTAMP:20260425T170001Z
DTSTART:20251022T130000Z
DTEND:20251022T144000Z
SUMMARY:История и методология науки
LOCATION:11 к. 350
END:VEVENT
BEGIN:VEVENT
UID:8vhk@192.168.245.71:3006
SEQUENCE:0
DTSTAMP:20260425T170001Z
DTSTART:20251024T110000Z
DTEND:20251024T124000Z
SUMMARY:Теоретическая инноватика
LOCATION:11 к. 345
END:VEVENT
END:VCALENDAR