BEGIN:VCALENDAR
VERSION:2.0
PRODID:-//spbstu.ru//ical//RU
NAME:Расписание
X-WR-CALNAME:Расписание
TIMEZONE-ID:Europe/Moscow
X-WR-TIMEZONE:Europe/Moscow
BEGIN:VEVENT
UID:yg3u@192.168.245.71:3006
SEQUENCE:0
DTSTAMP:20260425T031858Z
DTSTART:20251216T130000Z
DTEND:20251216T144000Z
SUMMARY:Теоретическая инноватика
LOCATION:1 к. 413
END:VEVENT
BEGIN:VEVENT
UID:rprd@192.168.245.71:3006
SEQUENCE:0
DTSTAMP:20260425T031858Z
DTSTART:20251217T130000Z
DTEND:20251217T144000Z
SUMMARY:История и методология науки
LOCATION:11 к. 350
END:VEVENT
BEGIN:VEVENT
UID:1mwf@192.168.245.71:3006
SEQUENCE:0
DTSTAMP:20260425T031858Z
DTSTART:20251217T130000Z
DTEND:20251217T144000Z
SUMMARY:История и методология науки
LOCATION:11 к. 350
END:VEVENT
END:VCALENDAR