BEGIN:VCALENDAR
VERSION:2.0
PRODID:-//spbstu.ru//ical//RU
NAME:Расписание
X-WR-CALNAME:Расписание
TIMEZONE-ID:Europe/Moscow
X-WR-TIMEZONE:Europe/Moscow
BEGIN:VEVENT
UID:6szi@192.168.245.71:3006
SEQUENCE:0
DTSTAMP:20260425T222510Z
DTSTART:20250930T130000Z
DTEND:20250930T144000Z
SUMMARY:Теоретическая инноватика
LOCATION:1 к. 413
END:VEVENT
BEGIN:VEVENT
UID:4mrn@192.168.245.71:3006
SEQUENCE:0
DTSTAMP:20260425T222510Z
DTSTART:20251001T130000Z
DTEND:20251001T144000Z
SUMMARY:История и методология науки
LOCATION:11 к. 350
END:VEVENT
BEGIN:VEVENT
UID:dh1c@192.168.245.71:3006
SEQUENCE:0
DTSTAMP:20260425T222510Z
DTSTART:20251001T130000Z
DTEND:20251001T144000Z
SUMMARY:История и методология науки
LOCATION:11 к. 350
END:VEVENT
BEGIN:VEVENT
UID:qy2j@192.168.245.71:3006
SEQUENCE:0
DTSTAMP:20260425T222510Z
DTSTART:20251002T070000Z
DTEND:20251002T084000Z
SUMMARY:История и методология науки
LOCATION:DL Дистанционно
END:VEVENT
BEGIN:VEVENT
UID:j2d7@192.168.245.71:3006
SEQUENCE:0
DTSTAMP:20260425T222510Z
DTSTART:20251003T110000Z
DTEND:20251003T124000Z
SUMMARY:Теоретическая инноватика
LOCATION:11 к. 345
END:VEVENT
END:VCALENDAR